BEGIN:VCALENDAR
VERSION:2.0
PRODID:-//Invest in Angus - ECPv6.15.17.1//NONSGML v1.0//EN
CALSCALE:GREGORIAN
METHOD:PUBLISH
X-ORIGINAL-URL:https://investinangus.com
X-WR-CALDESC:Events for Invest in Angus
REFRESH-INTERVAL;VALUE=DURATION:PT1H
X-Robots-Tag:noindex
X-PUBLISHED-TTL:PT1H
BEGIN:VTIMEZONE
TZID:UTC
BEGIN:STANDARD
TZOFFSETFROM:+0000
TZOFFSETTO:+0000
TZNAME:UTC
DTSTART:20220101T000000
END:STANDARD
END:VTIMEZONE
BEGIN:VEVENT
DTSTART;TZID=UTC:20230421T090000
DTEND;TZID=UTC:20230421T110000
DTSTAMP:20260421T111745
CREATED:20230313T110519Z
LAST-MODIFIED:20230313T110519Z
UID:10086795-1682067600-1682074800@investinangus.com
SUMMARY:Upgrade your business marketing with a CRM system
DESCRIPTION:From organising how you reach new customers to tracking the new deals you close\, a Customer Relationship Management (CRM) system is a great tool to help your business grow. In this webinar\, we’ll show you how to connect a CRM to your website\, track potential new customers\, manage your business activities\, nurture your leads and track successful\, new business. \nBy the end of this webinar\, you will understand: \n\nWhat a CRM is\, why they’re important and the difference between some of the best CRMs offered to businesses.\nHow to use HubSpot\, a free CRM\, for managing contacts\, organising sales processes and creating reports.\nHow to improve your sales and marketing processes by using CRM task management\, meeting scheduling and email marketing.\nYour legal responsibilities when capturing customer information.
URL:https://investinangus.com/event/upgrade-your-business-marketing-with-a-crm-system-10/
CATEGORIES:Digital Marketing
END:VEVENT
BEGIN:VEVENT
DTSTART;TZID=UTC:20230421T120000
DTEND;TZID=UTC:20230421T140000
DTSTAMP:20260421T111745
CREATED:20230313T110604Z
LAST-MODIFIED:20230313T110604Z
UID:10086797-1682078400-1682085600@investinangus.com
SUMMARY:Email marketing for business
DESCRIPTION:Connecting with your audience through effective email marketing campaigns is a great way to improve your marketing strategy and boost sales. In this webinar\, we’ll explore what makes an email campaign effective and ensure you are able to: \n\nSegment your audiences and target them effectively\nCreate a quality marketing email and measure its effectiveness\nIdentify the most suitable platforms and tools for email marketing campaigns\, including different paid-for account levels\nIdentify the different components of a successful email campaign\, including design\, HTML v text and other formats\nUse reporting and key metrics to make sure your campaigns are successful\nBe compliant with legal requirements relating to email communications
URL:https://investinangus.com/event/email-marketing-for-business/
CATEGORIES:Digital Marketing
END:VEVENT
END:VCALENDAR