BEGIN:VCALENDAR
VERSION:2.0
PRODID:-//Invest in Angus - ECPv6.15.17.1//NONSGML v1.0//EN
CALSCALE:GREGORIAN
METHOD:PUBLISH
X-ORIGINAL-URL:https://investinangus.com
X-WR-CALDESC:Events for Invest in Angus
REFRESH-INTERVAL;VALUE=DURATION:PT1H
X-Robots-Tag:noindex
X-PUBLISHED-TTL:PT1H
BEGIN:VTIMEZONE
TZID:UTC
BEGIN:STANDARD
TZOFFSETFROM:+0000
TZOFFSETTO:+0000
TZNAME:UTC
DTSTART:20220101T000000
END:STANDARD
END:VTIMEZONE
BEGIN:VEVENT
DTSTART;TZID=UTC:20230502T093000
DTEND;TZID=UTC:20230502T130000
DTSTAMP:20260421T080633
CREATED:20230410T085918Z
LAST-MODIFIED:20230410T085918Z
UID:10087048-1683019800-1683032400@investinangus.com
SUMMARY:International Digital Platforms and Tools for B2B Lead Generation
DESCRIPTION:B2B purchasing decision making processes are typically more complex than B2C – often involving multiple different stakeholders\, each with their own different needs\, perspectives and potential sales objectives we need to overcome. \nRoddy has a track record of launching and scaling successful businesses online. He has managed several successful multi-million pound e-commerce businesses from start-up to maturity in markets including the UK\, France\, Italy\, the US and China and in his last corporate role spent 7 years as the Global Head of E-Commerce and Digital Marketing for a $120M\, US Internet Retailer Top 200 e-commerce business. \nRoddy has established two successful new ventures\, Feral\, a digital marketing and e-commerce consultancy helping brands to produce authentic pillar marketing content and building high performance websites and an e-commerce retail business selling home décor products. This business is now a key player in the UK home interiors market.
URL:https://investinangus.com/event/international-digital-platforms-and-tools-for-b2b-lead-generation/
CATEGORIES:Digital Marketing
END:VEVENT
BEGIN:VEVENT
DTSTART;TZID=UTC:20230502T100000
DTEND;TZID=UTC:20230502T120000
DTSTAMP:20260421T080633
CREATED:20230417T120521Z
LAST-MODIFIED:20230417T120521Z
UID:10087085-1683021600-1683028800@investinangus.com
SUMMARY:Website User Experience – Is your website fit for purpose?
DESCRIPTION:Websites should look good and function well\, and give your website visitors and customers a positive user experience. \nDuring this webinar\, we’ll look at User Experience (UX) and how you can improve it on your website\, including: \n\nUnderstand what User Experience is\nA look at some of the key factors\, including credibility\, value\, purpose and more\nHints\, tips and tools to help you start improving elements of your website\nAn overview of tools to help you measure User Experience
URL:https://investinangus.com/event/website-user-experience-is-your-website-fit-for-purpose-5/
CATEGORIES:Digital Marketing
END:VEVENT
BEGIN:VEVENT
DTSTART;TZID=UTC:20230502T140000
DTEND;TZID=UTC:20230502T160000
DTSTAMP:20260421T080633
CREATED:20230417T120608Z
LAST-MODIFIED:20230417T120608Z
UID:10087087-1683036000-1683043200@investinangus.com
SUMMARY:Producing engaging online content
DESCRIPTION:Producing quality content is an excellent way of helping your customers develop a meaningful relationship with your brand\, services and products. \nIn this webinar we will show you how to source and develop a variety of content for your website and social channels. Ideal for businesses that already have a business website or use social media and now want to take it a step further\, and develop the skills to show your audience that you are a trusted operator in your field. \nThis session will help you: \n\nUnderstand what kind of content your customers are looking for\nSource\, write and deliver that content\nAmplify your brand and message and boost engagement online
URL:https://investinangus.com/event/producing-engaging-online-content-2/
CATEGORIES:Digital Marketing
END:VEVENT
END:VCALENDAR