BEGIN:VCALENDAR
VERSION:2.0
PRODID:-//Invest in Angus - ECPv6.15.17.1//NONSGML v1.0//EN
CALSCALE:GREGORIAN
METHOD:PUBLISH
X-ORIGINAL-URL:https://investinangus.com
X-WR-CALDESC:Events for Invest in Angus
REFRESH-INTERVAL;VALUE=DURATION:PT1H
X-Robots-Tag:noindex
X-PUBLISHED-TTL:PT1H
BEGIN:VTIMEZONE
TZID:UTC
BEGIN:STANDARD
TZOFFSETFROM:+0000
TZOFFSETTO:+0000
TZNAME:UTC
DTSTART:20220101T000000
END:STANDARD
END:VTIMEZONE
BEGIN:VEVENT
DTSTART;TZID=UTC:20230510T090000
DTEND;TZID=UTC:20230510T110000
DTSTAMP:20260421T080604
CREATED:20230417T121458Z
LAST-MODIFIED:20230417T121458Z
UID:10087105-1683709200-1683716400@investinangus.com
SUMMARY:Email marketing for business
DESCRIPTION:Connecting with your audience through effective email marketing campaigns is a great way to improve your marketing strategy and boost sales. In this webinar\, we’ll explore what makes an email campaign effective and ensure you are able to: \n\nSegment your audiences and target them effectively\nCreate a quality marketing email and measure its effectiveness\nIdentify the most suitable platforms and tools for email marketing campaigns\, including different paid-for account levels\nIdentify the different components of a successful email campaign\, including design\, HTML v text and other formats\nUse reporting and key metrics to make sure your campaigns are successful\nBe compliant with legal requirements relating to email communications
URL:https://investinangus.com/event/email-marketing-for-business-26/
CATEGORIES:Digital Marketing
END:VEVENT
BEGIN:VEVENT
DTSTART;TZID=UTC:20230510T110000
DTEND;TZID=UTC:20230510T120000
DTSTAMP:20260421T080604
CREATED:20230417T120150Z
LAST-MODIFIED:20230417T120150Z
UID:10087083-1683716400-1683720000@investinangus.com
SUMMARY:Taking charge of your utility strategy
DESCRIPTION:From redundancies to reduced hours\, rising energy costs continue to have a severe and significant impact on tourism and hospitality businesses. \nWith limited support available from the UK Government’s new Energy Bill Discount Scheme (EBDS) and a huge number of businesses out of contract\, it’s difficult to know what action to take next. \nThe Scottish Tourism Alliance (STA) is partnering with leading utilities management company\, eyebright\, to deliver a free online webinar to offer clarity and ultimately empower businesses in the sector to take charge of their energy strategy. \nWhether you’re an SME or a large\, multi-site business\, this event will debunk the myths around utilities management and the new EBDS\, highlight opportunities businesses may be missing to save energy\, and offer information and advice to confidently make choices about your utility strategy going forwards. \nAs well as hearing from business owners who are successfully navigating and managing their utilities\, there will be plenty of opportunities to ask questions\, both anonymously ahead of the event and during the session.
URL:https://investinangus.com/event/taking-charge-of-your-utility-strategy/
CATEGORIES:Business Planning,Finance
END:VEVENT
BEGIN:VEVENT
DTSTART;TZID=UTC:20230510T110000
DTEND;TZID=UTC:20230510T120000
DTSTAMP:20260421T080604
CREATED:20230502T103231Z
LAST-MODIFIED:20230502T103231Z
UID:10087196-1683716400-1683720000@investinangus.com
SUMMARY:Immigration update for the fishing sector
DESCRIPTION:Join us for an immigration update for the fishing sector – what do employers need to know? \nRecent changes to the Immigration Rules clarify that seafarers working within a 12-mile radius of the UK shore (also known as UK territorial waters) are subject to immigration control. These changes clarify that most non-British and non-Irish citizens working on vessels within UK territorial waters must have permission to do so before beginning work.
URL:https://investinangus.com/event/immigration-update-for-the-fishing-sector/
CATEGORIES:HR
END:VEVENT
BEGIN:VEVENT
DTSTART;TZID=UTC:20230510T120000
DTEND;TZID=UTC:20230510T140000
DTSTAMP:20260421T080604
CREATED:20230425T075058Z
LAST-MODIFIED:20230425T075058Z
UID:10087157-1683720000-1683727200@investinangus.com
SUMMARY:Build a customer focused business
DESCRIPTION:Did you know that a returning customer will typically spend more than two thirds more with your business than a brand new one? \nDid you know that retaining just 5% of your customer base can give an increase of over 20% in profits for your business? \nHaving an effective strategy in place for your business to deliver great customer service is critical for your business. \nWe will cover: \n\nWhy good customer service is critical for business growth\nWhat are the essentials of delivering great customer service and how should this be delivered?\nHow to effectively manage different types of customers and their expectations\nHow\, why\, and when you should measure the service a business delivers\nHow to use the service provided to promote a business and enable growth
URL:https://investinangus.com/event/build-a-customer-focused-business-11/
CATEGORIES:Business Planning
END:VEVENT
BEGIN:VEVENT
DTSTART;TZID=UTC:20230510T180000
DTEND;TZID=UTC:20230510T200000
DTSTAMP:20260421T080604
CREATED:20230417T121540Z
LAST-MODIFIED:20230417T121540Z
UID:10087107-1683741600-1683748800@investinangus.com
SUMMARY:Get impact & engagement with social media analytics
DESCRIPTION:Facebook\, Instagram\, Twitter\, LinkedIn & Pinterest are widely used social platforms\, but often account owners aren’t looking at the metrics provided within them. Those metrics will inform you of reach\, impressions\, demographics and more\, all of which can help towards improving the impact of your posting and targeting. \nThis webinar will help you understand how to access those metrics\, and how to use them to improve your social media delivery.
URL:https://investinangus.com/event/get-impact-engagement-with-social-media-analytics-24/
CATEGORIES:Digital Marketing
END:VEVENT
END:VCALENDAR