BEGIN:VCALENDAR
VERSION:2.0
PRODID:-//Invest in Angus - ECPv6.15.17.1//NONSGML v1.0//EN
CALSCALE:GREGORIAN
METHOD:PUBLISH
X-ORIGINAL-URL:https://investinangus.com
X-WR-CALDESC:Events for Invest in Angus
REFRESH-INTERVAL;VALUE=DURATION:PT1H
X-Robots-Tag:noindex
X-PUBLISHED-TTL:PT1H
BEGIN:VTIMEZONE
TZID:UTC
BEGIN:STANDARD
TZOFFSETFROM:+0000
TZOFFSETTO:+0000
TZNAME:UTC
DTSTART:20220101T000000
END:STANDARD
END:VTIMEZONE
BEGIN:VEVENT
DTSTART;TZID=UTC:20230516T083000
DTEND;TZID=UTC:20230516T090000
DTSTAMP:20260421T080607
CREATED:20230509T075442Z
LAST-MODIFIED:20230509T075442Z
UID:10087238-1684225800-1684227600@investinangus.com
SUMMARY:Breathe to Ease
DESCRIPTION:Our breath is an integral tool in managing the stress response and supporting regulation of the nervous system\, a super simple way to help you find calm\, ease and space from the crazy demands of your day. \nIn this session we’ll begin by being curious about our own breath and how it changes when we are stressed\, we’ll then play with a couple of breath practices to move us from that fight\, flight\, freeze state into rest and digest. We’ll focus on bringing a few extra layers into the practices to really affect that shift of the dial. \nNo prior experience of breathwork is needed and full guidance will be provided\, all practices are suitable for all.
URL:https://investinangus.com/event/breathe-to-ease/
CATEGORIES:Wellbeing
END:VEVENT
BEGIN:VEVENT
DTSTART;TZID=UTC:20230516T090000
DTEND;TZID=UTC:20230516T110000
DTSTAMP:20260421T080607
CREATED:20230417T133115Z
LAST-MODIFIED:20230417T133115Z
UID:10087117-1684227600-1684234800@investinangus.com
SUMMARY:e-Commerce with Shopify
DESCRIPTION:Shopify is a powerful all-in-one e-Commerce website builder that makes setting up an online store simple and straightforward. In this webinar\, we will explore Shopify’s features and pull together the building blocks for your first e-Commerce website. \nBy the end of this webinar\, you will be able to: \n\nUnderstand the essential features that a website needs to have to sell physical and digital products online\nUnderstand what Shopify is and how to use the features it offers to build a secure and powerful e-Commerce website\nUse the Shopify page builder and work with free themes to get the design and style of your website on-brand\nUnderstand how to manage orders and deliver great customer service\nUnderstand how to launch your new e-Commerce website and ensure all essential building blocks are in place using a pre-launch checklist
URL:https://investinangus.com/event/e-commerce-with-shopify-11/
CATEGORIES:Digital Marketing
END:VEVENT
BEGIN:VEVENT
DTSTART;TZID=UTC:20230516T100000
DTEND;TZID=UTC:20230516T110000
DTSTAMP:20260421T080607
CREATED:20230502T103344Z
LAST-MODIFIED:20230502T103344Z
UID:10087198-1684231200-1684234800@investinangus.com
SUMMARY:Dutch offshore wind - 2023 update
DESCRIPTION:Join us online for a 40 minute update on the Dutch offshore wind industry. \nFind out about tenders\, dates\, new players and technology advances to get ready for 2023 & 2024.
URL:https://investinangus.com/event/dutch-offshore-wind-2023-update/
CATEGORIES:Energy,Offshore Wind
END:VEVENT
BEGIN:VEVENT
DTSTART;TZID=UTC:20230516T110000
DTEND;TZID=UTC:20230516T120000
DTSTAMP:20260421T080607
CREATED:20230410T095000Z
LAST-MODIFIED:20230410T095000Z
UID:10087073-1684234800-1684238400@investinangus.com
SUMMARY:Latest updates on the low cost visa routes
DESCRIPTION:There are lots of low-cost visa routes under the UK’s points-based system. \nJoin TalentScotland for an update on affordable visa options\, including the Graduate\, High Potential Individual and Youth Mobility routes.
URL:https://investinangus.com/event/latest-updates-on-the-low-cost-visa-routes-5/
CATEGORIES:HR,Recruitment
END:VEVENT
BEGIN:VEVENT
DTSTART;TZID=UTC:20230516T120000
DTEND;TZID=UTC:20230516T140000
DTSTAMP:20260421T080607
CREATED:20230425T075239Z
LAST-MODIFIED:20230425T075239Z
UID:10087161-1684238400-1684245600@investinangus.com
SUMMARY:Build your brand and promotional graphics
DESCRIPTION:This webinar will define what a brand is (and is not) and explain how it is more than just creating a logo. We will explore how a business can use their brand to show its identity\, purpose\, personality\, message\, and values in order to stand out from competitors\, build a loyal customer base and make more sales. \nThis session will: \n\nProvide you with a clear understanding of the difference between brands and branding\nHelp you understand what a brand is\nShow you why branding is important\nLook at your brand strategy\, brand identity and action\nHelp you learn how to develop your brand’s positioning\, character\, and purpose to differentiate your business from its competitors\nDemonstrate how to set up a brand kit and style guide to ensure consistency across websites\, social media\, business cards\, posters etc.\nTeach you how to create simple promotional graphics using a variety of tools including Canva\nHighlight a variety of free tools including Google Drive\, Hubspot and Mailchimp that can save time and simplify marketing tasks
URL:https://investinangus.com/event/build-your-brand-and-promotional-graphics-11/
CATEGORIES:Business Planning,Marketing
END:VEVENT
BEGIN:VEVENT
DTSTART;TZID=UTC:20230516T143000
DTEND;TZID=UTC:20230516T163000
DTSTAMP:20260421T080607
CREATED:20230425T080333Z
LAST-MODIFIED:20230425T080333Z
UID:10087163-1684247400-1684254600@investinangus.com
SUMMARY:The low-cost guide to marketing your business
DESCRIPTION:When budgets are tight\, it can be difficult to find the funds for marketing. This webinar will offer marketing tips and advice that you can then use across your business – without bursting the bank! \nWe will look at: \n\nHow marketing extends way beyond what most businesses consider it to be and how it provides opportunities for businesses to make transformational change with little or minimal extra spend\nIdentifying marketing priorities and using these to reshape your business.\nThe marketing mix as a tool for reviewing how your business plans and delivers its marketing activity\nHow your marketing activity is delivered successfully and effectively in your business\nA series of top tips including the importance of understanding your customers\, the core components of a brand\, the value of strong and consistent branding\, the value of a clear focus and the power of creativity\nThe many options available with traditional Advertising and Promotion as a way a company communicates what it does and what it can offer customers\, but also looking how this has changed in a world where marketing has moved online\nThe foundations of effective marketing in a digital age\, looking at how your business can grasp new ways of marketing such as social media\, web\, and digital PR
URL:https://investinangus.com/event/the-low-cost-guide-to-marketing-your-business-12/
CATEGORIES:Digital Marketing,Marketing
END:VEVENT
END:VCALENDAR