BEGIN:VCALENDAR
VERSION:2.0
PRODID:-//Invest in Angus - ECPv6.15.17.1//NONSGML v1.0//EN
CALSCALE:GREGORIAN
METHOD:PUBLISH
X-WR-CALNAME:Invest in Angus
X-ORIGINAL-URL:https://investinangus.com
X-WR-CALDESC:Events for Invest in Angus
REFRESH-INTERVAL;VALUE=DURATION:PT1H
X-Robots-Tag:noindex
X-PUBLISHED-TTL:PT1H
BEGIN:VTIMEZONE
TZID:UTC
BEGIN:STANDARD
TZOFFSETFROM:+0000
TZOFFSETTO:+0000
TZNAME:UTC
DTSTART:20220101T000000
END:STANDARD
END:VTIMEZONE
BEGIN:VEVENT
DTSTART;TZID=UTC:20230517T083000
DTEND;TZID=UTC:20230517T090000
DTSTAMP:20260421T080414
CREATED:20230509T075532Z
LAST-MODIFIED:20230509T075532Z
UID:10087240-1684312200-1684314000@investinangus.com
SUMMARY:Mindfulness to Anchor
DESCRIPTION:Often when we are caught in states of stress\, overwhelm and anxious thoughts we can’t see anything but the cause of our panic. Mindfulness practices and meditation have the sole purpose of connecting us to the present moment. What that really means is we can be aware\, even in the grips of a stress response\, of what is happening\, our thoughts\, our bodies\, our surroundings\, what’s being said etc. \nBeing able to anchor in the moment creates a separation\, a pause\, a chance for us to notice that we are not the stress or the anxious thought\, and we can respond in a way that supports us as we move into the next moment rather than reacting and likely creating more stress. In this session we’ll play with a couple of mindfulness practices\, informal and formal\, so you have tools to anchor you as you move through your day. \nNo prior experience of mindfulness is required and contrary to popular belief you do not need to be able to stop your thoughts.
URL:https://investinangus.com/event/mindfulness-to-anchor/
CATEGORIES:Wellbeing
END:VEVENT
BEGIN:VEVENT
DTSTART;TZID=UTC:20230517T100000
DTEND;TZID=UTC:20230517T120000
DTSTAMP:20260421T080414
CREATED:20230417T133156Z
LAST-MODIFIED:20230417T133156Z
UID:10087119-1684317600-1684324800@investinangus.com
SUMMARY:How to improve your Google search rankings - Part 1: On page optimisation
DESCRIPTION:Join us to look at how Google and other search engines decide the order in which they list their search results. We will show you how to maximise your chances of appearing towards the top of the search rankings\, ensuring you understand what key words and phrases your potential customers are using when searching online\, and how to optimise your website as a result. \nWe will cover: \n\nHow search engines work\, and the ‘on-page’ factors used to rank your site\nUnderstanding customer search behaviour\nKeyword research tools and how to benefit from them\nOptimising your website content for search engines
URL:https://investinangus.com/event/how-to-improve-your-google-search-rankings-part-1-on-page-optimisation-10/
CATEGORIES:Digital Marketing
END:VEVENT
BEGIN:VEVENT
DTSTART;TZID=UTC:20230517T110000
DTEND;TZID=UTC:20230517T120000
DTSTAMP:20260421T080414
CREATED:20230410T095102Z
LAST-MODIFIED:20230410T095102Z
UID:10087075-1684321200-1684324800@investinangus.com
SUMMARY:Scale-Up Visa Routes: Latest Updates
DESCRIPTION:The government has recently introduced the Scale-Up visa route\, which gives certain employers another visa option to help access international talent. \nJoin us to learn more about this new route and how it could help you access international talent.
URL:https://investinangus.com/event/scale-up-visa-routes-latest-updates/
CATEGORIES:HR,Recruitment
END:VEVENT
BEGIN:VEVENT
DTSTART;TZID=UTC:20230517T120000
DTEND;TZID=UTC:20230517T130000
DTSTAMP:20260421T080414
CREATED:20230502T103659Z
LAST-MODIFIED:20230502T103659Z
UID:10087202-1684324800-1684328400@investinangus.com
SUMMARY:Feel the fear and do it anyway - Creating a leadership legacy
DESCRIPTION:In this interactive session\, career and leadership experts Katy Morrison and Laurie Macpherson will support you to examine and design your own ideas around leadership. \nYou will explore: \n\nThe impact that you have as a leader currently\nHow to design the legacy you would like to create for the future\nYou will leave with practical takeaways and have a chance to ask questions.
URL:https://investinangus.com/event/feel-the-fear-and-do-it-anyway-creating-a-leadership-legacy/
CATEGORIES:Business Planning,HR
END:VEVENT
BEGIN:VEVENT
DTSTART;TZID=UTC:20230517T140000
DTEND;TZID=UTC:20230517T160000
DTSTAMP:20260421T080414
CREATED:20230417T133239Z
LAST-MODIFIED:20230417T133239Z
UID:10087121-1684332000-1684339200@investinangus.com
SUMMARY:How to build a digital marketing plan
DESCRIPTION:This webinar will guide you through the steps needed to create an effective digital marketing strategy\, ensuring you focus on the right tactics to meet your business objectives and goals. \nWe will cover: \n\nThe importance of planning your digital marketing activities\nBuilding your plan around a simple framework\nConducting a situational analysis (and understanding Customers and Competitors)\nDeveloping your brand and tone of voice\nPlanning your Content strategy\nPrioritising digital channels\nEvaluating your Digital Marketing efforts
URL:https://investinangus.com/event/how-to-build-a-digital-marketing-plan-26/
CATEGORIES:Digital Marketing
END:VEVENT
END:VCALENDAR