BEGIN:VCALENDAR
VERSION:2.0
PRODID:-//Invest in Angus - ECPv6.15.17.1//NONSGML v1.0//EN
CALSCALE:GREGORIAN
METHOD:PUBLISH
X-ORIGINAL-URL:https://investinangus.com
X-WR-CALDESC:Events for Invest in Angus
REFRESH-INTERVAL;VALUE=DURATION:PT1H
X-Robots-Tag:noindex
X-PUBLISHED-TTL:PT1H
BEGIN:VTIMEZONE
TZID:UTC
BEGIN:STANDARD
TZOFFSETFROM:+0000
TZOFFSETTO:+0000
TZNAME:UTC
DTSTART:20220101T000000
END:STANDARD
END:VTIMEZONE
BEGIN:VEVENT
DTSTART;TZID=UTC:20230519T130000
DTEND;TZID=UTC:20230519T133000
DTSTAMP:20260421T080605
CREATED:20230509T075717Z
LAST-MODIFIED:20230509T075717Z
UID:10087244-1684501200-1684503000@investinangus.com
SUMMARY:Move\, Breathe\, Be Mindful
DESCRIPTION:Closing the week with a combination session incorporating elements from each session of the prior week. Move\, breathe and be mindful\, finding ease in your body and mind\, setting you up for a wonderful weekend. \nThe session is suitable for all\, no touching of toes or gym gear required\, and no prior experience of breathwork or mindfulness needed.
URL:https://investinangus.com/event/move-breathe-be-mindful/
CATEGORIES:Wellbeing
END:VEVENT
BEGIN:VEVENT
DTSTART;TZID=UTC:20230519T130000
DTEND;TZID=UTC:20230519T160000
DTSTAMP:20260421T080605
CREATED:20230424T090446Z
LAST-MODIFIED:20230424T090446Z
UID:10087149-1684501200-1684512000@investinangus.com
SUMMARY:Utili-Tay Launch Party
DESCRIPTION:As a valued customer\, connection\, supplier and friend to Utili-Tay we would like to invite you to celebrate with us at our official launch party. \nIt has been a busy time behind the scenes\, we have been creating our “Carbon Hub” where we can demonstrate and share our NEW and extended product range that will support businesses to reduce energy consumption. \nYou will also be among the first people to see our NEW website…. thanks to Amanda and Ross at Due North Creatives. We hope you like it as much as we do! \nWe are delighted to be joined by the founding partners and creator of our NEW carbon monitoring product\, they operate all over the world and will share how the technology works and what it means to Utili-Tays clients. \nJohn Thomson from DC Thomson will be sharing why Net Zero is a key focus for the business\, the journey they have been on to research the market place on the best solutions for the range of premises they have. Utili-Tay are delighted to be supporting them on the road to NetZero. \nOur partners at Everflow will share tip tips for reducing water consumption and ways to maximise water efficiency. Water can be the forgotten utility cost for a business but it is still a cost that you can directly impact. \nUtili-Tay believes it has a responsibility to support charities and communities to this end they donate time\, expertise and money on a quarterly basis to a nominated charity. We are delighted to introduce you to TCCL and 58 Bonnygate to share the amazing work they do across Tayside and Fife for families faced with child cancer and leukaemia. \nOur technology\, support and information is only part of the solutions we also need to focus on the culture and mindset within the business\, we have invited Jamie from YMindset to share his top tips on gaining employee and executive commitment and changing behaviours. \nOnce the official event finishes you are welcome to stay and network.
URL:https://investinangus.com/event/utili-tay-launch-party/
CATEGORIES:Networking,Sustainable/Circular Economy
END:VEVENT
BEGIN:VEVENT
DTSTART;TZID=UTC:20230519T143000
DTEND;TZID=UTC:20230519T163000
DTSTAMP:20260421T080605
CREATED:20230425T080426Z
LAST-MODIFIED:20230425T080426Z
UID:10087165-1684506600-1684513800@investinangus.com
SUMMARY:How to generate and increase sales
DESCRIPTION:Sales are the lifeblood of every business. This webinar focuses on a pragmatic approach to sales strategy and delivery and is designed to fit with the needs of small businesses in both B2C and B2B environments. \nWe will cover: \n\nWhy a clear understanding of what an ideal customer looks like\, and a good understanding of their problems\, needs and wants is key to sales success\nHow to develop your sales platform using digital tools\, platforms\, and techniques\nThe different motivations potential customers may have and how to identify which ‘buttons’ your business needs to press\nThe key phases in prospecting\, qualifying\, and converting sales prospects\nThe value of a ‘sales funnel’ and how it can be used to help plan and achieve sales\nWhy keeping the customers you already have is the best sales strategy of all\nThe importance of appropriate customer service in retaining customers
URL:https://investinangus.com/event/how-to-generate-and-increase-sales-11/
CATEGORIES:Digital Marketing,Marketing
END:VEVENT
END:VCALENDAR