BEGIN:VCALENDAR
VERSION:2.0
PRODID:-//Invest in Angus - ECPv6.15.17.1//NONSGML v1.0//EN
CALSCALE:GREGORIAN
METHOD:PUBLISH
X-WR-CALNAME:Invest in Angus
X-ORIGINAL-URL:https://investinangus.com
X-WR-CALDESC:Events for Invest in Angus
REFRESH-INTERVAL;VALUE=DURATION:PT1H
X-Robots-Tag:noindex
X-PUBLISHED-TTL:PT1H
BEGIN:VTIMEZONE
TZID:UTC
BEGIN:STANDARD
TZOFFSETFROM:+0000
TZOFFSETTO:+0000
TZNAME:UTC
DTSTART:20220101T000000
END:STANDARD
END:VTIMEZONE
BEGIN:VEVENT
DTSTART;TZID=UTC:20230607T093000
DTEND;TZID=UTC:20230607T123000
DTSTAMP:20260421T143026
CREATED:20230327T081434Z
LAST-MODIFIED:20230327T081434Z
UID:10086859-1686130200-1686141000@investinangus.com
SUMMARY:Ready\, Steady\, Grow: How to Expand Your Business
DESCRIPTION:This workshop will take place online via Zoom. Joining instructions will be shared with you once you have reserved your space. \nAre you a business that has been trading for less than five years? \nDo you realise your full potential? This is an opportunity for you to gain an outsider’s perspective\, which can be essential in realising the potential for your business to expand. \nWorking with our advisers\, you will analyse the current state of your business\, and identify key areas for growth. You will also be shown various tools that can be utilised to analyse your business’ performance. \nYou will leave this webinar feeling motivated\, with the knowledge of how to grow your business. You’ll now be able to set new goals\, that previously weren’t possible. \nIf you are an early-stage business looking to grow\, book your place now!
URL:https://investinangus.com/event/ready-steady-grow-how-to-expand-your-business-6/
CATEGORIES:Business Planning
END:VEVENT
BEGIN:VEVENT
DTSTART;TZID=UTC:20230607T150000
DTEND;TZID=UTC:20230607T180000
DTSTAMP:20260421T143026
CREATED:20230605T095420Z
LAST-MODIFIED:20230605T095420Z
UID:10087359-1686150000-1686160800@investinangus.com
SUMMARY:Green tease: Launch of the creative degrowth network Scotland
DESCRIPTION:Over the course of an afternoon\, this launch event will expand people’s knowledge on degrowth and what it means for Scotland. It will explore the role of culture\, and how people can use it to tell positive post-growth stories in our communities. \nAt the root of the climate emergency is a crisis of political imagination. The current political and societal structures are limited in what they can achieve. Economic and societal systems are currently driving the climate crisis in pursuit of profit and power: systems where we have been conditioned to value GDP and economic growth at the cost of people and planet. \nThe planet does not have the resources for endless growth\, and neither is endless growth working for people\, creating an immensely inequitable distribution of wealth. People will need radical\, collective visions of alternative futures to drive transformative action. Art and culture can help to rethink current systems. Hence\, the creation of the creative degrowth network Scotland. \nThe launch of this network aims to challenge and reframe the dominant narratives that have been driving the climate crisis. It aims to build stronger connections between cultural\, climate\, economic and community professionals in order to develop this urgent work towards a sustainable future. The afternoon will include contributions from Enough! Scotland\, and Rachel Grant\, Programme Manager at the Barn. You will also hear from members of the network and get a chance to form its future. The question asked will be: How can culture play its full role in the necessary transformation of society?
URL:https://investinangus.com/event/green-tease-launch-of-the-creative-degrowth-network-scotland/
LOCATION:Dundee Contemporary Arts\, 152 Nethergate\, Dundee\, DD1 4EA
CATEGORIES:Sustainable/Circular Economy
END:VEVENT
END:VCALENDAR