BEGIN:VCALENDAR
VERSION:2.0
PRODID:-//Invest in Angus - ECPv6.15.17.1//NONSGML v1.0//EN
CALSCALE:GREGORIAN
METHOD:PUBLISH
X-ORIGINAL-URL:https://investinangus.com
X-WR-CALDESC:Events for Invest in Angus
REFRESH-INTERVAL;VALUE=DURATION:PT1H
X-Robots-Tag:noindex
X-PUBLISHED-TTL:PT1H
BEGIN:VTIMEZONE
TZID:UTC
BEGIN:STANDARD
TZOFFSETFROM:+0000
TZOFFSETTO:+0000
TZNAME:UTC
DTSTART:20220101T000000
END:STANDARD
END:VTIMEZONE
BEGIN:VEVENT
DTSTART;TZID=UTC:20230608T083000
DTEND;TZID=UTC:20230608T163000
DTSTAMP:20260421T111605
CREATED:20230515T132744Z
LAST-MODIFIED:20230515T132744Z
UID:10087247-1686213000-1686241800@investinangus.com
SUMMARY:DigitalScotland: Tayside
DESCRIPTION:In 2023 Futurescot are delivering a series of economic and digital transformation events across Scotland and we are pleased to announce that the first of these unique forums will be DigitalScotland: Tayside. \nLike many parts of Scotland and the UK\, this once thriving region is remaking itself in a new era. The digital age is disrupting industries old and new\, with Dundee\, Perth and the wider Tayside region seeking their own place in the firmament of global digital pioneers. \nFortunately\, Dundee\, along with Angus\, Fife\, Perth\, and Kinross are developing a vibrant tech scene: as the home for a new cyberQuarter\, to gaming companies\, a drone port\, agri-tech disruptors\, and a new generation of med-tech spinouts\, the region is seizing new opportunities. \nWith government support through city region deal funding\, civic leaders are determined to bring to bear new skills and press their economic advantages to become more productive\, competitive\, and ambitious to connect to global markets. \nThis full day conference will bring together policymakers\, business leaders\, educators\, and community stakeholders to discuss the next steps for the region’s ongoing rejuvenation.
URL:https://investinangus.com/event/digitalscotland-tayside/
LOCATION:Abertay University\, Bell Street\, Dundee\, DD1 1HG
CATEGORIES:Networking,Technology
END:VEVENT
BEGIN:VEVENT
DTSTART;TZID=UTC:20230608T093000
DTEND;TZID=UTC:20230608T123000
DTSTAMP:20260421T111605
CREATED:20230502T102816Z
LAST-MODIFIED:20230502T102816Z
UID:10087190-1686216600-1686227400@investinangus.com
SUMMARY:Business Finance Viability
DESCRIPTION:Led by experienced advisers\, this workshop takes the fear out of finances\, providing practical tools and guidance to help you confidently manage your business’s budgeting and forecasting. You’ll learn how to identify the hidden costs of running your business\, including the cost of hiring staff\, maintaining stock levels\, and other crucial expenses. \nThrough a series of engaging exercises\, you’ll gain a deeper understanding of your business’s financial viability\, helping you make informed decisions about its future growth and success. Whether you’re a new entrepreneur or have been in business for a couple of years\, this workshop is tailored to your needs\, providing you with the knowledge and skills to take your business to the next level.
URL:https://investinangus.com/event/business-finance-viability-2/
LOCATION:Friockheim Hub\, Eastgate\, Friockheim\, DD11 4TG
CATEGORIES:Finance
END:VEVENT
END:VCALENDAR