BEGIN:VCALENDAR
VERSION:2.0
PRODID:-//Invest in Angus - ECPv6.15.17.1//NONSGML v1.0//EN
CALSCALE:GREGORIAN
METHOD:PUBLISH
X-ORIGINAL-URL:https://investinangus.com
X-WR-CALDESC:Events for Invest in Angus
REFRESH-INTERVAL;VALUE=DURATION:PT1H
X-Robots-Tag:noindex
X-PUBLISHED-TTL:PT1H
BEGIN:VTIMEZONE
TZID:UTC
BEGIN:STANDARD
TZOFFSETFROM:+0000
TZOFFSETTO:+0000
TZNAME:UTC
DTSTART:20220101T000000
END:STANDARD
END:VTIMEZONE
BEGIN:VEVENT
DTSTART;TZID=UTC:20230615T100000
DTEND;TZID=UTC:20230615T110000
DTSTAMP:20260421T062344
CREATED:20230605T094758Z
LAST-MODIFIED:20230605T094758Z
UID:10087350-1686823200-1686826800@investinangus.com
SUMMARY:2023 Clean Energy Transition Partnership (CETP) Innovation Funding Call
DESCRIPTION:Join the 2023 Clean Energy Transition Partnership Call Launch! \n£5 million research and innovation funding is available for  Scottish companies and universities developing clean energy projects across green power and heat sectors\, energy systems\, hydrogen\, renewable fuels and CCUS.
URL:https://investinangus.com/event/2023-clean-energy-transition-partnership-cetp-innovation-funding-call/
CATEGORIES:Energy,Finance
END:VEVENT
BEGIN:VEVENT
DTSTART;TZID=UTC:20230615T130000
DTEND;TZID=UTC:20230615T140000
DTSTAMP:20260421T062344
CREATED:20230612T084016Z
LAST-MODIFIED:20230612T084016Z
UID:10087382-1686834000-1686837600@investinangus.com
SUMMARY:Develop your Workforce Skills
DESCRIPTION:As we look to the future\, now is the time to think about the development needs of your workforce. \nJoin us to find out how our fully funded Graduate Apprenticeship Programme with University of Dundee can help you to develop the knowledge\, skills\, and experience of your workforce\, whilst helping your business grow. \nWith fully funded courses available in Business Management\, IT Management for Business\, IT Software Development\, Civil Engineering\, and Engineering\, Design and Manufacturing\, a GA Programme can help you develop employees from across your business. \nAt the event\, you will hear from both apprentices and employers who are currently utilising the Graduate Apprenticeship Programme\, so you can find out about their experience first-hand and the benefits the programme can bring to your business. \nYou will also hear from Engagement Manager Wayne Paul\, so you can find out everything you need to know about the Graduate Apprenticeship Programme\, and how it can help you to develop your talent\, boost your performance\, and grow your business. \nHow does it work? \nThese fully funded Graduate Apprenticeship Programmes give you the opportunity to develop current or new members of your workforce (of all ages) to honours degree level at no additional cost to your business. \nThere are fully funded and easily accessible places available on five different courses: \n\nBusiness Management\nIT Management for Business\nIT Software Development\nCivil Engineering\nEngineering\, Design and Manufacturing\n\nGraduate Apprentices spend one day a week studying at the University and the remaining four days of the week working in their role. At the end of four years they will receive the same level of degree as a student studying full time.
URL:https://investinangus.com/event/develop-your-workforce-skills-2/
CATEGORIES:Business Planning,Skills & Training
END:VEVENT
BEGIN:VEVENT
DTSTART;TZID=UTC:20230615T180000
DTEND;TZID=UTC:20230615T210000
DTSTAMP:20260421T062344
CREATED:20230410T085012Z
LAST-MODIFIED:20230410T085012Z
UID:10087043-1686852000-1686862800@investinangus.com
SUMMARY:The Complete Guide to Marketing for Novices
DESCRIPTION:This Face-2-Face workshop will be held in the Montrose Playhouse. \nThe workshop will cover the basic principles of marketing\, including target audience identification\, competitor analysis\, value proposition\, and the development of marketing strategies. \nThe workshop will also explore the importance of measuring the success of marketing strategies and how adhering to good business practice can positively influence Customer Generated Content \nOverall\, this workshop is ideal for businesses – new and existing – who want to gain a solid understanding of the basics. By the end of the workshop\, you should have the knowledge and skills necessary to develop and execute an effective marketing strategy for your business.
URL:https://investinangus.com/event/the-complete-guide-to-marketing-for-novices-2/
LOCATION:The Montrose Playhouse\, The Mall\, Montrose\, DD10 8NN
CATEGORIES:Marketing
END:VEVENT
END:VCALENDAR