BEGIN:VCALENDAR
VERSION:2.0
PRODID:-//Invest in Angus - ECPv6.15.17.1//NONSGML v1.0//EN
CALSCALE:GREGORIAN
METHOD:PUBLISH
X-WR-CALNAME:Invest in Angus
X-ORIGINAL-URL:https://investinangus.com
X-WR-CALDESC:Events for Invest in Angus
REFRESH-INTERVAL;VALUE=DURATION:PT1H
X-Robots-Tag:noindex
X-PUBLISHED-TTL:PT1H
BEGIN:VTIMEZONE
TZID:UTC
BEGIN:STANDARD
TZOFFSETFROM:+0000
TZOFFSETTO:+0000
TZNAME:UTC
DTSTART:20220101T000000
END:STANDARD
END:VTIMEZONE
BEGIN:VEVENT
DTSTART;TZID=UTC:20231031T090000
DTEND;TZID=UTC:20231031T170000
DTSTAMP:20260421T172316
CREATED:20230815T103734Z
LAST-MODIFIED:20230815T103734Z
UID:10087706-1698742800-1698771600@investinangus.com
SUMMARY:Scottish Tourism Alliance Autumn Conference
DESCRIPTION:The Scottish Tourism Alliance’s Autumn Conference will bring together leading voices and experts from a broad range of sectors for a day packed with speaker presentations\, panel sessions and plenty of opportunities to catch up with colleagues and create new connections. \nThe programme has been designed to support and empower the tourism and hospitality industry\, and all those connected to it\, to thrive in the present but also well into the future\, as we collectively work to deliver on Scotland’s vision to be a leader in 21st century tourism. \nWhether you’re a business owner or manager\, supplier or aspiring leader\, this is an unmissable event\, with attendees given access to the latest insights\, trends and forecasts for travel and hospitality\, the economy\, and policy as well as an update on Scotland Outlook 2030\, Scotland’s National Tourism Strategy. \nYou will also benefit from invaluable advice and actionable learnings both for tackling challenges and capitalising opportunities that they may be facing in the industry now and in the future.
URL:https://investinangus.com/event/scottish-tourism-alliance-autumn-conference/
LOCATION:Edinburgh International Conference Centre\, 150 Morrison Street\, Edinburgh\, EH3 8EE
CATEGORIES:Networking,Tourism
END:VEVENT
BEGIN:VEVENT
DTSTART;TZID=UTC:20231031T140000
DTEND;TZID=UTC:20231031T160000
DTSTAMP:20260421T172316
CREATED:20230828T151847Z
LAST-MODIFIED:20230828T151847Z
UID:10087860-1698760800-1698768000@investinangus.com
SUMMARY:Blogging for business
DESCRIPTION:This webinar will provide you with the knowledge and understanding you need to create a blog that promotes your business. \nWe will cover: \n\nWhat a ‘blog’ is\, how to set one up and what it takes to make them work\nOther small and medium sized businesses who already blog successfully and what you can learn from them\nOptions for monetising a blog\nHow to promote your blog\nHow your blog can help move your website higher up search engine rankings\nUnderstanding analytics and measuring the impact of your blog
URL:https://investinangus.com/event/blogging-for-business-13/
CATEGORIES:Digital Marketing
END:VEVENT
END:VCALENDAR