BEGIN:VCALENDAR
VERSION:2.0
PRODID:-//Invest in Angus - ECPv6.15.17.1//NONSGML v1.0//EN
CALSCALE:GREGORIAN
METHOD:PUBLISH
X-WR-CALNAME:Invest in Angus
X-ORIGINAL-URL:https://investinangus.com
X-WR-CALDESC:Events for Invest in Angus
REFRESH-INTERVAL;VALUE=DURATION:PT1H
X-Robots-Tag:noindex
X-PUBLISHED-TTL:PT1H
BEGIN:VTIMEZONE
TZID:UTC
BEGIN:STANDARD
TZOFFSETFROM:+0000
TZOFFSETTO:+0000
TZNAME:UTC
DTSTART:20220101T000000
END:STANDARD
END:VTIMEZONE
BEGIN:VEVENT
DTSTART;TZID=UTC:20231212T100000
DTEND;TZID=UTC:20231212T120000
DTSTAMP:20260423T110244
CREATED:20231023T142717Z
LAST-MODIFIED:20231023T142717Z
UID:10088135-1702375200-1702382400@investinangus.com
SUMMARY:Online Sales: Improve\, develop & make more money
DESCRIPTION:What’s the best way to sell your products online? The key to improving your online business is measuring its effectiveness – you can then take steps to optimise its performance. Should you be using your own eCommerce store or Amazon\, neither or both? This webinar will help you decide. \nWe will cover: \n\nFactors to consider when selling online.\nWhat eCommerce options exist\, and the benefits of each\nDifferences in available eCommerce platforms\nBenefits of automation\nKey items to optimise performance
URL:https://investinangus.com/event/online-sales-improve-develop-make-more-money-26/
CATEGORIES:Digital Marketing
END:VEVENT
BEGIN:VEVENT
DTSTART;TZID=UTC:20231212T140000
DTEND;TZID=UTC:20231212T160000
DTSTAMP:20260423T110244
CREATED:20231023T142755Z
LAST-MODIFIED:20231023T142755Z
UID:10088137-1702389600-1702396800@investinangus.com
SUMMARY:Google Analytics – Understand how your website performs
DESCRIPTION:Google Analytics (Universal and GA4) is a powerful tool that helps you understand how your website is performing. It helps answer lots of questions\, including: \n\nWhich marketing channels drive traffic to your site?\nWhat pages are users looking at the most?\nWhat impact does mobile have on your potential customers?\n\nDuring this webinar\, we’ll help you understand how Google Analytics is set up and give you an overview of key reports. We’ll also look at other web analytics tools to help you online.
URL:https://investinangus.com/event/google-analytics-understand-how-your-website-performs-11/
CATEGORIES:Digital Marketing
END:VEVENT
BEGIN:VEVENT
DTSTART;TZID=UTC:20231212T160000
DTEND;TZID=UTC:20231212T180000
DTSTAMP:20260423T110244
CREATED:20231113T131821Z
LAST-MODIFIED:20231113T131821Z
UID:10088194-1702396800-1702404000@investinangus.com
SUMMARY:Kickstart your Marketing
DESCRIPTION:The workshop will cover the basic principles of marketing\, including target audience identification\, competitor analysis\, value proposition\, and the development of marketing strategies. \nThe workshop will also explore the importance of measuring the success of marketing strategies and how adhering to good business practice can positively influence Customer Generated Content \nOverall\, this workshop is ideal for businesses – new and existing – who want to gain a solid understanding of the basics. By the end of the workshop\, you should have the knowledge and skills necessary to develop and execute an effective marketing strategy for your business.
URL:https://investinangus.com/event/kickstart-your-marketing-5/
CATEGORIES:Digital Marketing,Marketing
END:VEVENT
END:VCALENDAR