BEGIN:VCALENDAR
VERSION:2.0
PRODID:-//Invest in Angus - ECPv6.15.17.1//NONSGML v1.0//EN
CALSCALE:GREGORIAN
METHOD:PUBLISH
X-WR-CALNAME:Invest in Angus
X-ORIGINAL-URL:https://investinangus.com
X-WR-CALDESC:Events for Invest in Angus
REFRESH-INTERVAL;VALUE=DURATION:PT1H
X-Robots-Tag:noindex
X-PUBLISHED-TTL:PT1H
BEGIN:VTIMEZONE
TZID:UTC
BEGIN:STANDARD
TZOFFSETFROM:+0000
TZOFFSETTO:+0000
TZNAME:UTC
DTSTART:20230101T000000
END:STANDARD
END:VTIMEZONE
BEGIN:VEVENT
DTSTART;TZID=UTC:20240110T103000
DTEND;TZID=UTC:20240110T123000
DTSTAMP:20260424T175806
CREATED:20231204T110856Z
LAST-MODIFIED:20231204T110856Z
UID:10088258-1704882600-1704889800@investinangus.com
SUMMARY:The low-cost guide to marketing your business
DESCRIPTION:When budgets are tight\, it can be difficult to find the funds for marketing. This webinar will offer marketing tips and advice that you can then use across your business – without bursting the bank! \nWe will look at: \n\nHow marketing extends way beyond what most businesses consider it to be and how it provides opportunities for businesses to make transformational change with little or minimal extra spend\nIdentifying marketing priorities and using these to reshape your business.\nThe marketing mix as a tool for reviewing how your business plans and delivers its marketing activity\nHow your marketing activity is delivered successfully and effectively in your business\nA series of top tips including the importance of understanding your customers\, the core components of a brand\, the value of strong and consistent branding\, the value of a clear focus and the power of creativity\nThe many options available with traditional Advertising and Promotion as a way a company communicates what it does and what it can offer customers\, but also looking how this has changed in a world where marketing has moved online\nThe foundations of effective marketing in a digital age\, looking at how your business can grasp new ways of marketing such as social media\, web\, and digital PR
URL:https://investinangus.com/event/the-low-cost-guide-to-marketing-your-business-21/
CATEGORIES:Digital Marketing,Marketing
END:VEVENT
BEGIN:VEVENT
DTSTART;TZID=UTC:20240110T140000
DTEND;TZID=UTC:20240110T160000
DTSTAMP:20260424T175806
CREATED:20231204T111029Z
LAST-MODIFIED:20231204T111029Z
UID:10088260-1704895200-1704902400@investinangus.com
SUMMARY:How to build a digital marketing plan
DESCRIPTION:This webinar will guide you through the steps needed to create an effective digital marketing strategy\, ensuring you focus on the right tactics to meet your business objectives and goals. \nWe will cover: \n\nThe importance of planning your digital marketing activities\nBuilding your plan around a simple framework\nConducting a situational analysis (and understanding Customers and Competitors)\nDeveloping your brand and tone of voice\nPlanning your Content strategy\nPrioritising digital channels\nEvaluating your Digital Marketing efforts
URL:https://investinangus.com/event/how-to-build-a-digital-marketing-plan-31/
CATEGORIES:Digital Marketing
END:VEVENT
BEGIN:VEVENT
DTSTART;TZID=UTC:20240110T140000
DTEND;TZID=UTC:20240110T160000
DTSTAMP:20260424T175806
CREATED:20231218T135034Z
LAST-MODIFIED:20231218T135034Z
UID:10088344-1704895200-1704902400@investinangus.com
SUMMARY:How to write and develop your business plan
DESCRIPTION:New and established businesses will require a business plan for getting a loan\, grant or just to consider the direction they wish to go in. This webinar will teach you what you need to include and how. We will walk you through what should be included within a business plan\, how a business plan is used to improve your prospects for a loan or a grant\, and how you can develop a business plan to meet your needs. \nWe will: \n\nProvide a structure for a business plan\nReview each section of what should be included within the business plan\nExplain when and how to use a business plan\nExplore the connections (and importance) between the words and the numbers\nLook at how to identify and manage cashflow within the business planning process
URL:https://investinangus.com/event/how-to-write-and-develop-your-business-plan-29/
CATEGORIES:Business Planning,Business Start-up
END:VEVENT
END:VCALENDAR