BEGIN:VCALENDAR
VERSION:2.0
PRODID:-//Invest in Angus - ECPv6.15.17.1//NONSGML v1.0//EN
CALSCALE:GREGORIAN
METHOD:PUBLISH
X-WR-CALNAME:Invest in Angus
X-ORIGINAL-URL:https://investinangus.com
X-WR-CALDESC:Events for Invest in Angus
REFRESH-INTERVAL;VALUE=DURATION:PT1H
X-Robots-Tag:noindex
X-PUBLISHED-TTL:PT1H
BEGIN:VTIMEZONE
TZID:UTC
BEGIN:STANDARD
TZOFFSETFROM:+0000
TZOFFSETTO:+0000
TZNAME:UTC
DTSTART:20230101T000000
END:STANDARD
END:VTIMEZONE
BEGIN:VEVENT
DTSTART;TZID=UTC:20240112T100000
DTEND;TZID=UTC:20240112T120000
DTSTAMP:20260424T175757
CREATED:20231204T111343Z
LAST-MODIFIED:20231204T111343Z
UID:10088266-1705053600-1705060800@investinangus.com
SUMMARY:Keep your business safe online
DESCRIPTION:Join us to find out how criminals are targeting small businesses online\, the risks you face\, and what you can do to minimise your exposure to online crime. \nThis webinar includes a number of live demos\, covering the following areas: \n\nWhat are the main online threats to your business?\nThe 5 pillars of prevention (Backup\, Malware prevention\, Securing your hardware\, Passwords & Phishing attacks)\nSimple and practical measures you can implement to protect yourself and your business\nBest practice recovery steps for your business if the worst should happen\n\nAs a result of attending this webinar\, you will gain a deeper understanding of the digital threats facing your business and what you need to do to secure your website\, social media and company data from cyber criminals.
URL:https://investinangus.com/event/keep-your-business-safe-online-9/
CATEGORIES:Business Planning
END:VEVENT
BEGIN:VEVENT
DTSTART;TZID=UTC:20240112T140000
DTEND;TZID=UTC:20240112T160000
DTSTAMP:20260424T175757
CREATED:20231218T135215Z
LAST-MODIFIED:20231218T135215Z
UID:10088348-1705068000-1705075200@investinangus.com
SUMMARY:The essentials of bookkeeping and what expenses you can claim
DESCRIPTION:This webinar is for those who are entering business for the first time or require an understanding of what is involved in financially managing a business\, including basic bookkeeping\, and creating a profit and loss account. You will also get an understanding of what expenses the business can claim and then how to fund your business. At the end of the session\, you will receive a workbook on excel to help you manage and monitor costs and sales. \nAt the end of this session\, you will be able to: \n\nImplement basic bookkeeping skills across your business\nCreate a profit and loss account\nUnderstand what expenses can and cannot be claimed\nUse financial management to increase revenues and profits\nUnderstand capital and revenue costs and how they are treated
URL:https://investinangus.com/event/the-essentials-of-bookkeeping-and-what-expenses-you-can-claim-33/
CATEGORIES:Finance
END:VEVENT
END:VCALENDAR