BEGIN:VCALENDAR
VERSION:2.0
PRODID:-//Invest in Angus - ECPv6.15.17.1//NONSGML v1.0//EN
CALSCALE:GREGORIAN
METHOD:PUBLISH
X-ORIGINAL-URL:https://investinangus.com
X-WR-CALDESC:Events for Invest in Angus
REFRESH-INTERVAL;VALUE=DURATION:PT1H
X-Robots-Tag:noindex
X-PUBLISHED-TTL:PT1H
BEGIN:VTIMEZONE
TZID:UTC
BEGIN:STANDARD
TZOFFSETFROM:+0000
TZOFFSETTO:+0000
TZNAME:UTC
DTSTART:20230101T000000
END:STANDARD
END:VTIMEZONE
BEGIN:VEVENT
DTSTART;TZID=UTC:20240122T100000
DTEND;TZID=UTC:20240122T120000
DTSTAMP:20260419T144528
CREATED:20231204T115711Z
LAST-MODIFIED:20231204T115711Z
UID:10088284-1705917600-1705924800@investinangus.com
SUMMARY:Photography for online business
DESCRIPTION:During this webinar you will: \n\nDiscover the basic ‘dos and don’ts’ of taking your own pictures\, editing them and uploading them onto digital platforms.\nSee some real-life examples of posts that demonstrate good\, bad and indifferent use for businesses.
URL:https://investinangus.com/event/photography-for-online-business-31/
CATEGORIES:Digital Marketing
END:VEVENT
END:VCALENDAR