BEGIN:VCALENDAR
VERSION:2.0
PRODID:-//Invest in Angus - ECPv6.15.17.1//NONSGML v1.0//EN
CALSCALE:GREGORIAN
METHOD:PUBLISH
X-WR-CALNAME:Invest in Angus
X-ORIGINAL-URL:https://investinangus.com
X-WR-CALDESC:Events for Invest in Angus
REFRESH-INTERVAL;VALUE=DURATION:PT1H
X-Robots-Tag:noindex
X-PUBLISHED-TTL:PT1H
BEGIN:VTIMEZONE
TZID:UTC
BEGIN:STANDARD
TZOFFSETFROM:+0000
TZOFFSETTO:+0000
TZNAME:UTC
DTSTART:20230101T000000
END:STANDARD
END:VTIMEZONE
BEGIN:VEVENT
DTSTART;TZID=UTC:20240123T093000
DTEND;TZID=UTC:20240123T120000
DTSTAMP:20260419T162441
CREATED:20240109T140028Z
LAST-MODIFIED:20240109T140028Z
UID:10088404-1706002200-1706011200@investinangus.com
SUMMARY:Becoming Fearless - The Entrepreneurial Mindset
DESCRIPTION:Successful business owners know that their brains drive their business goals and results. But being a business owner can be lonely and that isolation can be demotivating\, particularly when there is no one to encourage you when things are tough or to celebrate with you when things go well. Being the driving force behind your own company has the highest highs\, and at times\, the lowest lows. \nOur Fearless workshop delves into this rollercoaster in lots of detail and aims to give you the tools you need\, to enjoy the ride! \nAgenda: \n*Exploring the Entrepreneurial Mindset \n*Talking about mental fitness for entrepreneurs \n*Exploring the impact of isolation in business \n*Building and nurturing your network of support \n*Peer support\, goals setting for success\, communicating your needs\, and managing your priorities
URL:https://investinangus.com/event/becoming-fearless-the-entrepreneurial-mindset/
CATEGORIES:Business Planning,Wellbeing
END:VEVENT
BEGIN:VEVENT
DTSTART;TZID=UTC:20240123T100000
DTEND;TZID=UTC:20240123T123000
DTSTAMP:20260419T162441
CREATED:20240109T133315Z
LAST-MODIFIED:20240109T133315Z
UID:10088397-1706004000-1706013000@investinangus.com
SUMMARY:Train to become a CPD-certified Green Champion
DESCRIPTION:Rising energy costs\, the climate emergency and increasing consumer pressure continue to challenge the way that businesses across Scotland manage their environmental performance. \nThe Green Champions online training course is already helping organisations across Scotland prepare for this challenge by providing knowledge\, tried-and-tested techniques\, best practice examples\, and free tools and templates. \nThis free webinar\, designed for small and medium sized enterprises\, will pack the entire Green Champions foundation course into one session. Join and get the skills and knowledge that over 4\,500 other professionals have already learnt through the Green Champions training course. \nYou’ll find out about the changing resource landscape and the growing need to be resource efficient\, before learning how to gather valuable data from around your organisation to help you plan improvement projects. \nYou’ll also learn a range of techniques that can be used to interpret and visualise the information you have collected on your resource use\, and how to use that knowledge to set realistic environmental goals for your organisation.
URL:https://investinangus.com/event/train-to-become-a-cpd-certified-green-champion/
CATEGORIES:Business Planning,Sustainable/Circular Economy
END:VEVENT
BEGIN:VEVENT
DTSTART;TZID=UTC:20240123T100000
DTEND;TZID=UTC:20240123T130000
DTSTAMP:20260419T162441
CREATED:20231127T114828Z
LAST-MODIFIED:20231127T114828Z
UID:10088241-1706004000-1706014800@investinangus.com
SUMMARY:Inclusion and Accessibility in Travel\, Tourism and Hospitality
DESCRIPTION:Experienced in successfully delivering Inclusion and Accessibility Workshops to the Scottish Travel\, Tourism and Hospitality sector throughout 2022\, we are pleased to be able to offer Part 1 of our workshops to all who work in this vital industry to the Scottish economy\, once again. \nJoin us to discuss and explore inclusion and accessibility for disabled people and all in wider society\, as an employer and service provider of goods and services. \n+ We are Visible Inclusive Accessibility (VIA) \nA social enterprise\, whose aim is to help alter perspectives and in turn\, breakdown the barriers disabled people face and improve experiences for all. \n+ Workshops \nWe are pleased to be able to offer the opportunity to attend Part 1 of these workshops on: Tuesday 23rd January\, between 10.00 am and 1.00 pm. \n+ Aims \nThe aims of the workshop are to support your development through discussion and sharing practical solutions to improve experiences for all. \nIn the workshop we will discuss different ways in which society can view disability and the barriers (seen and unseen) which can be encountered. \nThrough practical discussion\, we hope to increase confidence and encourage a wider perspective when considering disability\, barriers and adjustments. \n+ The workshop will cover \n\nDefinitions and Models of Disability\nEquality Act 2010\nDisability Employment Gap and landscape in Scotland\nReasonable Adjustments and Removing Barriers.\n\nThese workshops have been developed through lived experiences and we would like to encourage you to bring your own lived experience to this event.
URL:https://investinangus.com/event/inclusion-and-accessibility-in-travel-tourism-and-hospitality/
CATEGORIES:Tourism
END:VEVENT
BEGIN:VEVENT
DTSTART;TZID=UTC:20240123T120000
DTEND;TZID=UTC:20240123T150000
DTSTAMP:20260419T162441
CREATED:20231218T161644Z
LAST-MODIFIED:20231218T161644Z
UID:10088382-1706011200-1706022000@investinangus.com
SUMMARY:Expression of Interest - eCommerce Trade Commission Roundtable
DESCRIPTION:Take a seat at our ground-breaking roundtable! The E-Commerce Trade Commission (ECT-C) – organized by the Institute of Export & International Trade (IOE&IT) is the first of its kind in the UK and aims to develop solutions that encourage small and SMEs to engage in international online trade. \nWhat is it? \nThe ECT-C\, launched in June\, is focused on helping SMEs trade internationally online. By addressing barriers to e-commerce exporting\, the Commission seeks to kick-start 70\,000 more UK small businesses into exporting\, contributing significantly to a £9.3 billion boost to the economy. \nWho’s hosting? \nIOE&IT Director General Marco Forgione will chair the session\, ensuring diverse perspectives are represented. The Commission includes contributions from leading e-commerce platforms such as Amazon\, Alibaba\, eBay\, Google\, Shopify and collaborating organizations like FSB\, ICAEW and the Association of Courier and Express Services. \nWhy is it needed? \nThe Commission addresses the need for collaboration among key industry players and government bodies to streamline e-commerce processes. The Department for Business & Trade will be part of the Commission\, facilitating direct communication with HMG policymakers in Partnership with Scottish Development International
URL:https://investinangus.com/event/expression-of-interest-ecommerce-trade-commission-roundtable/
LOCATION:Scottish Enterprise\, 99 Haymarket Terrace\, Edinburgh\, EH12 5HD
CATEGORIES:International Trade,Networking
END:VEVENT
BEGIN:VEVENT
DTSTART;TZID=UTC:20240123T130000
DTEND;TZID=UTC:20240123T140000
DTSTAMP:20260419T162441
CREATED:20240115T104737Z
LAST-MODIFIED:20240115T104737Z
UID:10088478-1706014800-1706018400@investinangus.com
SUMMARY:The conscious communicator: utilising the foundations of motivational intelligence to build people and relationships
DESCRIPTION:Motivational Intelligence (MQ) plays a crucial role in shaping our resilience and drive to succeed and find happiness\, regardless of our circumstances. \nIt involves nurturing an attitude that embraces trust\, gratitude\, grit\, service\, kindness\, and the strength to act and communicate with integrity. \nIndividuals possessing high MQ are sources of hope\, inspiring excellence in others. When charged with inspiration\, communication has the power to reignite the sense of self-worth in those who have forgotten their intrinsic value and worth. \nCome along and hear insights on how you can bring this to life in your work and life.
URL:https://investinangus.com/event/the-conscious-communicator-utilising-the-foundations-of-motivational-intelligence-to-build-people-and-relationships/
CATEGORIES:HR
END:VEVENT
BEGIN:VEVENT
DTSTART;TZID=UTC:20240123T160000
DTEND;TZID=UTC:20240123T180000
DTSTAMP:20260419T162441
CREATED:20231204T115802Z
LAST-MODIFIED:20231204T115802Z
UID:10088286-1706025600-1706032800@investinangus.com
SUMMARY:Business Finance Viability
DESCRIPTION:Led by experienced advisers\, this webinar takes the fear out of finances\, providing practical tools and guidance to help you confidently manage your business’s budgeting and forecasting. You’ll learn how to identify the hidden costs of running your business\, including the cost of hiring staff\, maintaining stock levels\, and other crucial expenses. \nThrough a series of engaging exercises\, you’ll gain a deeper understanding of your business’s financial viability\, helping you make informed decisions about its future growth and success. Whether you’re a new entrepreneur or have been in business for a couple of years\, this webinar is tailored to your needs\, providing you with the knowledge and skills to take your business to the next level. \nDon’t let financial worries hold you back from realizing your business’s full potential. Sign up for the Business Finance Viability webinar today and discover how to confidently manage your business’s financial health!
URL:https://investinangus.com/event/business-finance-viability-9/
CATEGORIES:Finance
END:VEVENT
BEGIN:VEVENT
DTSTART;TZID=UTC:20240123T180000
DTEND;TZID=UTC:20240123T200000
DTSTAMP:20260419T162441
CREATED:20231211T113742Z
LAST-MODIFIED:20231211T113742Z
UID:10088327-1706032800-1706040000@investinangus.com
SUMMARY:How to write and develop your business plan
DESCRIPTION:New and established businesses will require a business plan for getting a loan\, grant or just to consider the direction they wish to go in. This webinar will teach you what you need to include and how. We will walk you through what should be included within a business plan\, how a business plan is used to improve your prospects for a loan or a grant\, and how you can develop a business plan to meet your needs. \nWe will: \n\nProvide a structure for a business plan\nReview each section of what should be included within the business plan\nExplain when and how to use a business plan\nExplore the connections (and importance) between the words and the numbers\nLook at how to identify and manage cashflow within the business planning process
URL:https://investinangus.com/event/how-to-write-and-develop-your-business-plan-28/
CATEGORIES:Business Planning,Business Start-up
END:VEVENT
END:VCALENDAR