BEGIN:VCALENDAR
VERSION:2.0
PRODID:-//Invest in Angus - ECPv6.15.17.1//NONSGML v1.0//EN
CALSCALE:GREGORIAN
METHOD:PUBLISH
X-ORIGINAL-URL:https://investinangus.com
X-WR-CALDESC:Events for Invest in Angus
REFRESH-INTERVAL;VALUE=DURATION:PT1H
X-Robots-Tag:noindex
X-PUBLISHED-TTL:PT1H
BEGIN:VTIMEZONE
TZID:UTC
BEGIN:STANDARD
TZOFFSETFROM:+0000
TZOFFSETTO:+0000
TZNAME:UTC
DTSTART:20230101T000000
END:STANDARD
END:VTIMEZONE
BEGIN:VEVENT
DTSTART;TZID=UTC:20240131T093000
DTEND;TZID=UTC:20240131T103000
DTSTAMP:20260424T175901
CREATED:20240115T105624Z
LAST-MODIFIED:20240115T105624Z
UID:10088487-1706693400-1706697000@investinangus.com
SUMMARY:Thorntons Webinar - Reducing Workforce Costs\, Reorganisation and Redundancy
DESCRIPTION:Over the coming months\, employers may encounter some challenges as they continue to  navigate economic uncertainty inflationary pressures and higher costs. Many businesses are already feeling an increasing financial burden\, and accordingly\, some may want to undertake a review of their operating costs. \nWhile many employers will want to do all they can to reduce costs in a way which preserves jobs\, such as amending employment contracts\, regrettably\, others may have to look at restructuring and redundancies to manage costs. \nRegardless of scale\, employers contemplating redundancies must ensure they understand and follow the relevant legal framework. The effective management of any organisational restructure\, whether by redundancy or other means\, can minimise legal costs and ensure smooth transition. This webinar will cover the thorny issues of potential redundancies and restructures\, with a focus on the potential legal pitfalls and how best to navigate these. \nOur Employment Law specialists will host a one hour webinar and online Q&A to guide employers as they prepare to address the potential challenges ahead. As well as sharing legal guidance on these processes\, we will also share practical tips that you can apply in your own organisation. \nThis webinar will cover: \n\nJob preservation – ways to reduce workforce costs without resorting to redundancies\nThe redundancy process – the importance of getting it right!\nParticular points to consider arising out of discrimination and the costs of getting it wrong\nTips for employers\n\nWho should attend? \n\nBusiness owners\nHR Professionals\nFinance Directors\nSenior Managers and those with people management responsibilities
URL:https://investinangus.com/event/thorntons-webinar-reducing-workforce-costs-reorganisation-and-redundancy/
CATEGORIES:Business Planning,HR
END:VEVENT
BEGIN:VEVENT
DTSTART;TZID=UTC:20240131T100000
DTEND;TZID=UTC:20240131T120000
DTSTAMP:20260424T175901
CREATED:20231204T120234Z
LAST-MODIFIED:20231204T120234Z
UID:10088298-1706695200-1706702400@investinangus.com
SUMMARY:Facebook for business
DESCRIPTION:Get to grips with Facebook – the world’s most popular social networking platform. \nIn this webinar you will: \n\nLearn how to get the most out of Facebook and how it could fit into your business’s digital marketing strategy.\nBetter understand the algorithm behind Facebook\, and how to create great content that achieves a bigger reach and impact.\nLearn from the stats and data you can get from the system and discover who your most interested customers/clients are.\nUnderstand the power of Facebook advertising\, and other selling options available to you.\nDiscover other business opportunities presented by Facebook\, including how to promote and sell products and services.\nBe introduced to ‘Business Suite’ – a free Facebook dashboard to manage all your business activity.
URL:https://investinangus.com/event/facebook-for-business-4/
CATEGORIES:Digital Marketing
END:VEVENT
BEGIN:VEVENT
DTSTART;TZID=UTC:20240131T130000
DTEND;TZID=UTC:20240131T143000
DTSTAMP:20260424T175901
CREATED:20240115T155841Z
LAST-MODIFIED:20240115T155957Z
UID:10088494-1706706000-1706711400@investinangus.com
SUMMARY:Supporting neurodivergent customers
DESCRIPTION:AccessAble is a world leader in the provision of accessibility information. Their website www.AccessAble.co.uk has Detailed Access Guides to over 70\,000 venues\, and is used by over 6 million people each year. Currently operating in 17 countries\, AccessAble have set a global benchmark for expectations of online detailed access information. \nAccessAble further supports 460 + clients to improve and communicate their access in and around their buildings and services\, with valuable data and actionable insight. \nUsing decades of experience listening to thousands of disabled people\, AccessAble supports organisations to improve their buildings\, policies\, and services to welcome disabled people as customers and colleagues\, through the provision of information\, consultancy\, and E-learning. \nThis session will provide an overview of best practices and strategies to better serve and accommodate this unique customer base. \nAccessAble’s Head of Marketing\, Carrie-Ann Lightley\, will be joined by panelists Dr Hannah Barham-Brown\, Hester Grainger\, and Lydia Wilkins. \nOur panelists will share their lived expertise of disability\, how businesses can support them\, and how neurodivergent customers can be better served.
URL:https://investinangus.com/event/supporting-neurodivergent-customers/
CATEGORIES:Accessibility,Skills & Training
END:VEVENT
BEGIN:VEVENT
DTSTART;TZID=UTC:20240131T180000
DTEND;TZID=UTC:20240131T200000
DTSTAMP:20260424T175901
CREATED:20231204T120315Z
LAST-MODIFIED:20231204T120315Z
UID:10088300-1706724000-1706731200@investinangus.com
SUMMARY:TikTok and Instagram Reels for business
DESCRIPTION:You might view TikTok as a stream of dance trends and lip-synching videos\, but it can also be a fantastic place to engage with your customers and increase the reach of your business online. Explore how to create bitesize vertical video content and how to use this new format for more effective business communication. \nWe will cover: \n\nHow to optimise your TikTok and Instagram accounts for the best results with video.\nHow to discover the latest trends on each platform and leverage this to create popular videos for your business.\nIdeas for creating content to entertain\, inspire or educate your audience (with lots of examples from a variety of relevant TikTok and Reels accounts).\nHow to increase engagement and reach by paying attention to your videos’ structure\, duration\, titles and understanding hashtags and algorithms.\nThe best kit\, apps and workflow to create bitesize vertical videos for both platforms.
URL:https://investinangus.com/event/tiktok-and-instagram-reels-for-business-18/
CATEGORIES:Digital Marketing
END:VEVENT
BEGIN:VEVENT
DTSTART;TZID=UTC:20240131T180000
DTEND;TZID=UTC:20240131T203000
DTSTAMP:20260424T175901
CREATED:20240111T125539Z
LAST-MODIFIED:20240111T125811Z
UID:10088460-1706724000-1706733000@investinangus.com
SUMMARY:Unlocking Talent: The 2024 Retention Revolution
DESCRIPTION:Are you struggling to recruit and retain staff? \nDo you want to explore strategies to upskill and retain your employees through funded training? \nJoin us to learn about the support available in your local region\, empowering you to strategically recruit\, skillfully retrain\, and effectively retain top-tier talent. Collaborating with our professional partners\, you will gain insight into each and every one of their fantastic offerings. \nWe will also be launching the new Tay Cities SME Skills Fund\, a game-changing initiative designed to empower small-medium sized businesses in the region. \nThis fund is not just about financial support; it’s a strategic investment in your workforce\, focusing on employee experience and training to drive business growth and enhance talent retention. \nDon’t miss out on this opportunity to revolutionise your approach to employee retention and skills development. \nWho is this event for? \nBusiness Owners & Managers who are responsible for HR & staff development from any industry\, but particularly: Hospitality\, Construction\, Manufacturing and Care. \nWhy attend? \n\nSupport in the Region: Explore the range of support available from all our professional partners – Fife College\, UHI Perth\, University of Dundee\, Abertay University\, Skills Development Scotland\, Scottish Enterprise\, Business Gateway\, Dundee & Angus Chamber of Commerce\, Perthshire Chamber of Commerce and the Federation of Small Businesses.\nLearn about Staff Training Available: Discover how investing in your workforce’s skills can be a game-changer for your business success.\nRetention Strategies: Hear from experts and business owners on innovative approaches to employee engagement and development\, fostering an environment where your team wants to stay and thrive.\nAccess to New Funding: Learn about the Tay Cities SME Skills Fund and how it can provide financial support for your business growth initiatives.
URL:https://investinangus.com/event/unlocking-talent-the-2024-retention-revolution/
LOCATION:Dundee & Angus College\, Gardyne Campus\, Dundee\, DD5 1NY
CATEGORIES:Finance,HR,Networking
END:VEVENT
END:VCALENDAR