BEGIN:VCALENDAR
VERSION:2.0
PRODID:-//Invest in Angus - ECPv6.15.17.1//NONSGML v1.0//EN
CALSCALE:GREGORIAN
METHOD:PUBLISH
X-ORIGINAL-URL:https://investinangus.com
X-WR-CALDESC:Events for Invest in Angus
REFRESH-INTERVAL;VALUE=DURATION:PT1H
X-Robots-Tag:noindex
X-PUBLISHED-TTL:PT1H
BEGIN:VTIMEZONE
TZID:UTC
BEGIN:STANDARD
TZOFFSETFROM:+0000
TZOFFSETTO:+0000
TZNAME:UTC
DTSTART:20230101T000000
END:STANDARD
END:VTIMEZONE
BEGIN:VEVENT
DTSTART;TZID=UTC:20240514T100000
DTEND;TZID=UTC:20240514T120000
DTSTAMP:20260420T050257
CREATED:20240415T104354Z
LAST-MODIFIED:20240415T104354Z
UID:10088995-1715680800-1715688000@investinangus.com
SUMMARY:Video production for digital marketing
DESCRIPTION:Video captures people’s attention online and is important for getting your message across\, while engaging with your target audience. \nLearn how to: \n\nChoose what type of video to create to suit your business objectives\nPlan\, shoot\, edit\, and upload video without special kit or expertise\nGet to know the various digital platforms that can be utilised to view and share video content\nSee what editing apps are available and how to add music and subtitles
URL:https://investinangus.com/event/video-production-for-digital-marketing/
CATEGORIES:Digital Marketing
END:VEVENT
BEGIN:VEVENT
DTSTART;TZID=UTC:20240514T100000
DTEND;TZID=UTC:20240514T120000
DTSTAMP:20260420T050257
CREATED:20240422T160103Z
LAST-MODIFIED:20240422T160103Z
UID:10089120-1715680800-1715688000@investinangus.com
SUMMARY:Kickstart your Marketing
DESCRIPTION:The workshop will cover the basic principles of marketing\, including target audience identification\, competitor analysis\, value proposition\, and the development of marketing strategies. \nThe workshop will also explore the importance of measuring the success of marketing strategies and how adhering to good business practice can positively influence Customer Generated Content. \nOverall\, this workshop is ideal for businesses – new and existing – who want to gain a solid understanding of the basics. By the end of the workshop\, you should have the knowledge and skills necessary to develop and execute an effective marketing strategy for your business.
URL:https://investinangus.com/event/kickstart-your-marketing-10/
CATEGORIES:Marketing
END:VEVENT
BEGIN:VEVENT
DTSTART;TZID=UTC:20240514T100000
DTEND;TZID=UTC:20240514T143000
DTSTAMP:20260420T050257
CREATED:20240319T100157Z
LAST-MODIFIED:20240319T100157Z
UID:10088926-1715680800-1715697000@investinangus.com
SUMMARY:Tasting Tayside & Fife 2024
DESCRIPTION:Bringing together outstanding producers from Angus\, Dundee\, Fife and Perthshire\, this is a networking event that allows guests to experience world class local food and drink and find out more about how to stock it. \nThe event allows for informal conversations to help facilitate understanding between fantastic local producers and buyers (chefs\, retailers\, distributors etc). \nWhether you’re a wholesale buyer looking to expand your local produce range\, chef or retailer looking to champion more of the best local food and drink\, or are simply interested in finding out what’s available locally\, this is the event for you. \n‘Meet the Supplier’ runs from 10am to 1pm with the opportunity to tour the fascinating Discovery Point venue afterwards. \nThe supplier showcase will be followed by an interactive workshop aimed at local producers. The topic of discussion will be ‘How to Grow Your Business & Explore New Routes to Market’. \nJoin our expert panel for an engaging\, informal discussion on the avenues to growth in the local food & drink sector and gain valuable insights into the opportunities and support available to your business. \nLocal producers\, in addition to those exhibiting at the Meet the Supplier event are encouraged to attend.
URL:https://investinangus.com/event/tasting-tayside-fife-2024/
LOCATION:Discovery Point\, Riverside Drive\, Dundee\, DD1 4XA
CATEGORIES:Food & Drink,Networking
END:VEVENT
END:VCALENDAR