BEGIN:VCALENDAR
VERSION:2.0
PRODID:-//Invest in Angus - ECPv6.15.17.1//NONSGML v1.0//EN
CALSCALE:GREGORIAN
METHOD:PUBLISH
X-ORIGINAL-URL:https://investinangus.com
X-WR-CALDESC:Events for Invest in Angus
REFRESH-INTERVAL;VALUE=DURATION:PT1H
X-Robots-Tag:noindex
X-PUBLISHED-TTL:PT1H
BEGIN:VTIMEZONE
TZID:UTC
BEGIN:STANDARD
TZOFFSETFROM:+0000
TZOFFSETTO:+0000
TZNAME:UTC
DTSTART:20230101T000000
END:STANDARD
END:VTIMEZONE
BEGIN:VEVENT
DTSTART;TZID=UTC:20240517T120000
DTEND;TZID=UTC:20240517T140000
DTSTAMP:20260420T114948
CREATED:20240507T102939Z
LAST-MODIFIED:20240507T102939Z
UID:10089230-1715947200-1715954400@investinangus.com
SUMMARY:Upskill for Today & Future Proof Your Business
DESCRIPTION:Calling all electricians\, plumbers\, car mechanics/technicians and tradespeople working with hybrid/electric vehicles (EV)\, EV charging installation points\, hydrogen vehicles or heat pump systems. \nExplore our cutting-edge facilities\, equipment and training at The Skills Academy at Michelin Scotland Innovation Parc\, designed to elevate your skills in current & future technologies. \nWhy Attend? \nHands-On Experience: Explore our state-of-the-art equipment used for our upskilling courses for plumbers\, electricians and car technicians at The Skills Academy. \nFunding Opportunities: Learn about accessing funding to upskill yourself or your team in these skills. \nBusiness Success: Understand the importance of upskilling in electric and renewable technologies to future-proof your business. \nDon’t miss this chance to stay ahead in your field and shape the future of your business!
URL:https://investinangus.com/event/upskill-for-today-future-proof-your-business/
LOCATION:Michelin Innovation Parc\, Baldovie Road\, Dundee\, DD4 8UQ
CATEGORIES:Skills & Training
END:VEVENT
END:VCALENDAR