BEGIN:VCALENDAR
VERSION:2.0
PRODID:-//Invest in Angus - ECPv6.15.17.1//NONSGML v1.0//EN
CALSCALE:GREGORIAN
METHOD:PUBLISH
X-WR-CALNAME:Invest in Angus
X-ORIGINAL-URL:https://investinangus.com
X-WR-CALDESC:Events for Invest in Angus
REFRESH-INTERVAL;VALUE=DURATION:PT1H
X-Robots-Tag:noindex
X-PUBLISHED-TTL:PT1H
BEGIN:VTIMEZONE
TZID:UTC
BEGIN:STANDARD
TZOFFSETFROM:+0000
TZOFFSETTO:+0000
TZNAME:UTC
DTSTART:20250101T000000
END:STANDARD
END:VTIMEZONE
BEGIN:VEVENT
DTSTART;TZID=UTC:20260401T100000
DTEND;TZID=UTC:20260401T120000
DTSTAMP:20260423T055321
CREATED:20260302T112624Z
LAST-MODIFIED:20260302T112624Z
UID:10093506-1775037600-1775044800@investinangus.com
SUMMARY:How to build a digital marketing plan
DESCRIPTION:This webinar will guide you through the steps needed to create an effective digital marketing strategy\, ensuring you focus on the right tactics to meet your business objectives and goals. \nWe will cover: \n\nThe importance of planning your digital marketing activities\nBuilding your plan around a simple framework\nConducting a situational analysis (and understanding customers and competitors)\nDeveloping your brand and tone of voice\nPlanning your content strategy\nPrioritising digital channels\nEvaluating your Digital Marketing efforts
URL:https://investinangus.com/event/how-to-build-a-digital-marketing-plan-48/
CATEGORIES:Digital Marketing,Marketing
END:VEVENT
BEGIN:VEVENT
DTSTART;TZID=UTC:20260401T120000
DTEND;TZID=UTC:20260401T123000
DTSTAMP:20260423T055321
CREATED:20260312T162806Z
LAST-MODIFIED:20260312T162806Z
UID:10093674-1775044800-1775046600@investinangus.com
SUMMARY:Microsoft Copilot: A bitesized overview for businesses | Lunch and Learn
DESCRIPTION:Most businesses have access to Microsoft Copilot\, but many still aren’t sure what it actually does or how to use it. \nThis beginner-friendly deep dive led by Shimron Walters will walk you through Microsoft’s automation ecosystem\, AI agents and the capabilities that can transform the way you work. \nTopics covered in this session: \n\nWhat Microsoft Copilot is\, how it works and why it’s quickly becoming the industry standard\nHow Copilot Studio empowers you to build custom automations and AI agents tailored to your business\nPractical use cases that show how this technology can help your team save time\, reduce costs and operate more efficiently
URL:https://investinangus.com/event/microsoft-copilot-a-bitesized-overview-for-businesses-lunch-and-learn/
CATEGORIES:Technology
END:VEVENT
BEGIN:VEVENT
DTSTART;TZID=UTC:20260401T140000
DTEND;TZID=UTC:20260401T160000
DTSTAMP:20260423T055321
CREATED:20260302T112718Z
LAST-MODIFIED:20260302T112718Z
UID:10093508-1775052000-1775059200@investinangus.com
SUMMARY:Accounting for Limited Companies
DESCRIPTION:This webinar is designed to outline the key accounting and statutory reporting requirements for a limited company and explain the main differences between operating as a sole trader versus a limited company. \nWe’ll cover: \n\nAdvantanges and disadvantages of setting up as a limited company\nCompany set-up\nAccounting requirements\nRecord keeping and employing staff\nPaying directors and shareholders\nCorporation Tax\nVAT\nSoftware\nManagement accounts\nIncorporation\n\nBy the end of the webinar you should have a solid basis of deciding if a limited company is the correct structure for your business\, and have an understanding of what is involved in accounting for a limited company.
URL:https://investinangus.com/event/accounting-for-limited-companies-5/
CATEGORIES:Finance
END:VEVENT
BEGIN:VEVENT
DTSTART;TZID=UTC:20260401T150000
DTEND;TZID=UTC:20260401T160000
DTSTAMP:20260423T055321
CREATED:20260312T162926Z
LAST-MODIFIED:20260312T162926Z
UID:10093676-1775055600-1775059200@investinangus.com
SUMMARY:Ditching the spreadsheet: When and how to switch to cloud accounting
DESCRIPTION:Still managing your accounts in spreadsheets? It’s worth knowing that as your business grows\, manual bookkeeping can quickly become time-consuming\, error-prone and stressful. \nJoin this free Tech Hub webinar to discover when it’s time to move on from manual processes and how cloud accounting can transform the way you manage your finances. \nWe’ll explore practical ways to simplify your admin\, stay compliant and reduce manual work – all while gaining better visibility and control over your business performance. \nWhat you’ll learn: \n\nRecognising the signs: How to tell when spreadsheets are holding your business back\nMaking the switch: What to look for in cloud accounting software and how to get started smoothly\nSimplifying financial admin: Tips to manage digital records efficiently and cut down on repetitive tasks\nThe future of finance: Discover Sage Copilot\, an AI-powered tool designed to streamline workflows and support smarter\, faster decision-making\n\nWhether you’re a sole trader\, a small business owner or an accountant supporting clients\, this session will help you take the next step towards a simpler\, smarter way to manage your finances.
URL:https://investinangus.com/event/ditching-the-spreadsheet-when-and-how-to-switch-to-cloud-accounting-2/
CATEGORIES:Finance
END:VEVENT
END:VCALENDAR