BEGIN:VCALENDAR
VERSION:2.0
PRODID:-//Invest in Angus - ECPv6.15.17.1//NONSGML v1.0//EN
CALSCALE:GREGORIAN
METHOD:PUBLISH
X-WR-CALNAME:Invest in Angus
X-ORIGINAL-URL:https://investinangus.com
X-WR-CALDESC:Events for Invest in Angus
REFRESH-INTERVAL;VALUE=DURATION:PT1H
X-Robots-Tag:noindex
X-PUBLISHED-TTL:PT1H
BEGIN:VTIMEZONE
TZID:UTC
BEGIN:STANDARD
TZOFFSETFROM:+0000
TZOFFSETTO:+0000
TZNAME:UTC
DTSTART:20250101T000000
END:STANDARD
END:VTIMEZONE
BEGIN:VEVENT
DTSTART;TZID=UTC:20260421T100000
DTEND;TZID=UTC:20260421T120000
DTSTAMP:20260421T015326
CREATED:20260302T114128Z
LAST-MODIFIED:20260302T114128Z
UID:10093526-1776765600-1776772800@investinangus.com
SUMMARY:How to write funding applications
DESCRIPTION:Securing funding can be a game-changer — but writing a strong application takes more than just filling out forms. \nThis webinar will offer tools and insights to help improve your chances of a successful application\, including: \n\nClarifying and communicating your funding need\nBuilding a persuasive business case with clear objectives and costings\nUnderstanding your funder’s priorities and tailoring your language\nPresenting evidence that demonstrates impact and credibility\nAvoiding common mistakes that lead to rejection\nStructuring your application for clarity and relevance
URL:https://investinangus.com/event/how-to-write-funding-applications-15/
CATEGORIES:Finance
END:VEVENT
BEGIN:VEVENT
DTSTART;TZID=UTC:20260421T103000
DTEND;TZID=UTC:20260421T120000
DTSTAMP:20260421T015326
CREATED:20260302T131221Z
LAST-MODIFIED:20260302T131221Z
UID:10093570-1776767400-1776772800@investinangus.com
SUMMARY:Getting Your Business Tender Ready - The Checklist
DESCRIPTION:In Scotland\, public sector procurement is governed by rules set out by the Scottish Government. Therefore\, there is certain information\, policies\, and processes which must be in place before your business can begin to bid for public sector contracts. \nThis webinar aims to help Scottish SMEs and social enterprises become tender ready. One of our expert trainers will talk you through a “bidding checklist” of all the key information\, processes and policies that your business must have in place prior to bidding. \nDuring this course\, you will learn: \n\nThe information and policies you need to have in place for public sector procurement.\nAn understanding of the public sector procurement market and how to enter it.\nHow to create a bid/no bid strategy.\nHow to improve your chances of winning a public sector contract.\n\nAt the end of the webinar\, there will be an interactive Q&A session where you will have the opportunity to ask our expert trainer any questions you may have.
URL:https://investinangus.com/event/getting-your-business-tender-ready-the-checklist-3/
CATEGORIES:Procurement
END:VEVENT
BEGIN:VEVENT
DTSTART;TZID=UTC:20260421T123000
DTEND;TZID=UTC:20260421T133000
DTSTAMP:20260421T015326
CREATED:20260312T163512Z
LAST-MODIFIED:20260312T163512Z
UID:10093680-1776774600-1776778200@investinangus.com
SUMMARY:Grants for Businesses
DESCRIPTION:In this Masterclass\, we’ll explore grants for small businesses! We’ll cover government schemes\, sector-specific grants\, and application best practices. \nYou’ll leave this session clearer on the grant process and confident to start applying for grants that might be right for you! \nThis is an interactive session\, so please come along with questions.
URL:https://investinangus.com/event/grants-for-businesses/
CATEGORIES:Finance
END:VEVENT
BEGIN:VEVENT
DTSTART;TZID=UTC:20260421T140000
DTEND;TZID=UTC:20260421T160000
DTSTAMP:20260421T015326
CREATED:20260302T114217Z
LAST-MODIFIED:20260302T114217Z
UID:10093528-1776780000-1776787200@investinangus.com
SUMMARY:Why your business needs a blog
DESCRIPTION:This webinar will provide you with the knowledge and understanding you need to create a blog that promotes your business. \nWe will cover: \n\nWhat a ‘blog’ is\, how to set one up and what it takes to make them work\nOther small and medium sized businesses who already blog successfully and what you can learn from them\nOptions for monetising a blog\nHow to promote your blog\nHow your blog can help move your website higher up search engine ranking\nUnderstanding analytics and measuring the impact of your blog
URL:https://investinangus.com/event/why-your-business-needs-a-blog-13/
CATEGORIES:Digital Marketing,Marketing
END:VEVENT
END:VCALENDAR