BEGIN:VCALENDAR
VERSION:2.0
PRODID:-//Invest in Angus - ECPv6.15.17.1//NONSGML v1.0//EN
CALSCALE:GREGORIAN
METHOD:PUBLISH
X-WR-CALNAME:Invest in Angus
X-ORIGINAL-URL:https://investinangus.com
X-WR-CALDESC:Events for Invest in Angus
REFRESH-INTERVAL;VALUE=DURATION:PT1H
X-Robots-Tag:noindex
X-PUBLISHED-TTL:PT1H
BEGIN:VTIMEZONE
TZID:UTC
BEGIN:STANDARD
TZOFFSETFROM:+0000
TZOFFSETTO:+0000
TZNAME:UTC
DTSTART:20250101T000000
END:STANDARD
END:VTIMEZONE
BEGIN:VEVENT
DTSTART;TZID=UTC:20260422T100000
DTEND;TZID=UTC:20260422T120000
DTSTAMP:20260422T015017
CREATED:20260302T114304Z
LAST-MODIFIED:20260302T114304Z
UID:10093530-1776852000-1776859200@investinangus.com
SUMMARY:Social media essentials: Instagram
DESCRIPTION:Thinking about using Instagram to communicate with existing and potential customers? Want to showcase your products or services using it? During this webinar we will cover: \n\nGetting the setup right and benefitting from the available business tools\nBest practice profiles\, and some strategies to help your business stand out from the crowd\nThe types of audience you can reach via this platform and the factors and analytics such as cost and timing of posting images and how that can maximise impact\nThe various types of content you can post to Instagram\, from regular posts to Stories and Reels
URL:https://investinangus.com/event/social-media-essentials-instagram-24/
CATEGORIES:Digital Marketing
END:VEVENT
BEGIN:VEVENT
DTSTART;TZID=UTC:20260422T140000
DTEND;TZID=UTC:20260422T160000
DTSTAMP:20260422T015017
CREATED:20260302T114343Z
LAST-MODIFIED:20260302T114343Z
UID:10093532-1776866400-1776873600@investinangus.com
SUMMARY:Social media essentials: LinkedIn
DESCRIPTION:No longer just an online CV\, LinkedIn can be an incredibly powerful – and profitable – business tool. \nDuring this webinar\, you will: \n\nLearn how to create a LinkedIn strategy to boost your business reputation via marketing and brand promotion initiatives\nLearn the difference between personal and company profiles and how to optimise them for both maximum visibility and brand awareness\nUnderstand that content is king on LinkedIn\, and we’ll show you how to plan and produce captivating content that enriches your brand
URL:https://investinangus.com/event/social-media-essentials-linkedin-18/
CATEGORIES:Digital Marketing
END:VEVENT
END:VCALENDAR