BEGIN:VCALENDAR
VERSION:2.0
PRODID:-//Invest in Angus - ECPv6.15.17.1//NONSGML v1.0//EN
CALSCALE:GREGORIAN
METHOD:PUBLISH
X-ORIGINAL-URL:https://investinangus.com
X-WR-CALDESC:Events for Invest in Angus
REFRESH-INTERVAL;VALUE=DURATION:PT1H
X-Robots-Tag:noindex
X-PUBLISHED-TTL:PT1H
BEGIN:VTIMEZONE
TZID:UTC
BEGIN:STANDARD
TZOFFSETFROM:+0000
TZOFFSETTO:+0000
TZNAME:UTC
DTSTART:20240101T000000
END:STANDARD
END:VTIMEZONE
BEGIN:VEVENT
DTSTART;TZID=UTC:20250210T130000
DTEND;TZID=UTC:20250210T160000
DTSTAMP:20260419T215457
CREATED:20250203T090253Z
LAST-MODIFIED:20250203T090253Z
UID:10090599-1739192400-1739203200@investinangus.com
SUMMARY:Business Support – Drop In Sessions (Monifieth Library)
DESCRIPTION:The Business Gateway team will be at Monifieth Library to offer expert advice and support for all your business questions. \nDrop in and speak to us\, or use the book now button and a member of the team will be in touch to book an appointment. \nWhether you’re just starting out or looking to grow business\, our advisers are here for you every step of the way.
URL:https://investinangus.com/event/business-support-drop-in-sessions-monifieth-library-2/
LOCATION:Monifieth Library\, 48 High Street\, Monifieth\, DD5 4AE
CATEGORIES:Business Planning,Business Start-up
END:VEVENT
BEGIN:VEVENT
DTSTART;TZID=UTC:20250211T130000
DTEND;TZID=UTC:20250211T150000
DTSTAMP:20260419T215457
CREATED:20250120T174039Z
LAST-MODIFIED:20250120T174039Z
UID:10090548-1739278800-1739286000@investinangus.com
SUMMARY:An introduction to business strategy
DESCRIPTION:This webinar is practical\, outcome driven\, and designed to fit with the needs of small businesses in both B2C and B2B environments. It will help you develop a strategically led approach that can turbo charge business growth\, identify the core growth strategy(ies) that are right for your business\, and develop an action plan. \nWe will look at: \n\nYour business today – identifying your strengths and areas for development\nThe key pillars of a business and why balancing all areas is essential for success\nPersonal and business ambitions and using these to guide strategy development\nAnsoff’s Matrix as a tool for identifying core growth strategies\nThe core components of your business delivery\nHow to develop a methodical\, strategic approach to developing your business for future success\n\nAfter the webinar\, you will understand: \n\nHow to undertake a balanced review of where your business is that helps identify areas for development\nAnsoff’s Matrix and how to use it as a core strategic planning tool\nHow to create a strategic plan for growing your business
URL:https://investinangus.com/event/an-introduction-to-business-strategy-11/
CATEGORIES:Business Planning
END:VEVENT
BEGIN:VEVENT
DTSTART;TZID=UTC:20250213T100000
DTEND;TZID=UTC:20250213T120000
DTSTAMP:20260419T215457
CREATED:20241202T091943Z
LAST-MODIFIED:20241202T091943Z
UID:10090429-1739440800-1739448000@investinangus.com
SUMMARY:Selling Your Business Masterclass
DESCRIPTION:Have you considered a succession plan for your business? It’s never too early to start thinking about your options. Employee ownership is quickly becoming the preferred exit route for business owners. \nAimed at business owners who are considering an exit from their company\, this session will give attendees the opportunity to hear from engineering design consultancy\, MHB Consultants and Esteem Training. Speakers from the company will explain considerations they undertook when choosing employee ownership and how things have worked out as a result. \nAndrew Harrison from Co-ownership Solutions will talk through all ownership succession options before focussing on employee ownership and how to ensure the employee buyout is a smooth process.
URL:https://investinangus.com/event/selling-your-business-masterclass-7/
CATEGORIES:Business Planning
END:VEVENT
BEGIN:VEVENT
DTSTART;TZID=UTC:20250213T100000
DTEND;TZID=UTC:20250213T120000
DTSTAMP:20260419T215457
CREATED:20250106T130954Z
LAST-MODIFIED:20250106T130954Z
UID:10090511-1739440800-1739448000@investinangus.com
SUMMARY:An introduction to Artificial Intelligence (AI) for small businesses
DESCRIPTION:You’ve heard of Artificial Intelligence\, but do you know how it can help you as you run your business? This practical webinar will explore how AI can help improve your business marketing to be more efficient and cost-effective\, through the automatic creation of content for all your digital platforms; as well as helping you better understand your customers and business opportunities. \nThis webinar will cover: \n\nWhat is Artificial Intelligence\nCurrent AI tools and systems to use right now (including ChatGPT and MidJourney)\nAutomating digital content for blogs and social media\nUsing AI for business strategy and customer profiling\nThe pros and cons of AI for small businesses\n\nThis webinar will help you understand how you can integrate AI into your existing marketing\, looking at the potential consequences (good and bad) of Artificial Intelligence\, and its impact on small businesses and their customers.
URL:https://investinangus.com/event/an-introduction-to-artificial-intelligence-ai-for-small-businesses-10/
CATEGORIES:Business Planning,Digital Marketing,Technology
END:VEVENT
BEGIN:VEVENT
DTSTART;TZID=UTC:20250217T100000
DTEND;TZID=UTC:20250217T120000
DTSTAMP:20260419T215457
CREATED:20250120T174214Z
LAST-MODIFIED:20250120T174214Z
UID:10090552-1739786400-1739793600@investinangus.com
SUMMARY:A step-by-step guide to building your business plan
DESCRIPTION:New and established businesses will require a business plan for getting a loan\, grant or just to consider the direction they wish to go in. This webinar will teach you what you need to include and how. We will walk you through what should be included within a business plan\, how a business plan is used to improve your prospects for a loan or a grant\, and how you can develop a business plan to meet your needs. \nWe will: \n\nProvide a structure for a business plan\nReview each section of what should be included within the business plan\nExplain when and how to use a business plan\nExplore the connections (and importance) between the words and the numbers\nLook at how to identify and manage cashflow within the business planning process
URL:https://investinangus.com/event/a-step-by-step-guide-to-building-your-business-plan-13/
CATEGORIES:Business Planning,Business Start-up
END:VEVENT
BEGIN:VEVENT
DTSTART;TZID=UTC:20250217T130000
DTEND;TZID=UTC:20250217T160000
DTSTAMP:20260419T215457
CREATED:20250203T090339Z
LAST-MODIFIED:20250203T090339Z
UID:10090601-1739797200-1739808000@investinangus.com
SUMMARY:Business Support – Drop In Sessions (Carnoustie Library)
DESCRIPTION:The Business Gateway team will be at Carnoustie Library to offer expert advice and support for all your business questions. \nDrop in and speak to us\, or use the book now button and a member of the team will be in touch to book an appointment. \nWhether you’re just starting out or looking to grow business\, our advisers are here for you every step of the way.
URL:https://investinangus.com/event/business-support-drop-in-sessions-carnoustie-library-3/
LOCATION:Carnoustie Library\, 21 High Street\, Carnoustie\, DD7 6AN
CATEGORIES:Business Planning,Business Start-up
END:VEVENT
BEGIN:VEVENT
DTSTART;TZID=UTC:20250220T100000
DTEND;TZID=UTC:20250220T123000
DTSTAMP:20260419T215457
CREATED:20241202T092043Z
LAST-MODIFIED:20241202T092043Z
UID:10090431-1740045600-1740054600@investinangus.com
SUMMARY:The Employee Ownership Transition: A Deep Dive
DESCRIPTION:Are you considering employee ownership as a succession plan for your business? Join us on our deep dive into the process of selling to an Employee Ownership Trust (EOT). \nAimed at business owners considering employee ownership as a succession option\, this interactive online workshop will cover topics that are fundamental to every employee ownership transition. \nThe workshop will include a presentation and a breakout session. \nThe presentation will cover: \n\nHow a transaction or sale of shares to an EOT works\nValuation\, purchase price and repayments\nSeller protections and the role of the exiting owners\nGovernance structure of the business post transition\nThe role of the board and the trust and their relationship with each other\nEmployee engagement and employee incentives (bonuses and share schemes)\n\nThe breakout sessions will be on: \n\nThe transition process and legal implementation – led by Louise Fisher\, Baxendale Employee Ownership\nThe importance of employee engagement – led by Hannah Welch\, Baxendale Employee Ownership
URL:https://investinangus.com/event/the-employee-ownership-transition-a-deep-dive-3/
CATEGORIES:Business Planning
END:VEVENT
BEGIN:VEVENT
DTSTART;TZID=UTC:20250225T140000
DTEND;TZID=UTC:20250225T160000
DTSTAMP:20260419T215457
CREATED:20250120T174837Z
LAST-MODIFIED:20250120T174837Z
UID:10090564-1740492000-1740499200@investinangus.com
SUMMARY:A step-by-step guide to building your business plan
DESCRIPTION:New and established businesses will require a business plan for getting a loan\, grant or just to consider the direction they wish to go in. This webinar will teach you what you need to include and how. We will walk you through what should be included within a business plan\, how a business plan is used to improve your prospects for a loan or a grant\, and how you can develop a business plan to meet your needs. \nWe will: \n\nProvide a structure for a business plan\nReview each section of what should be included within the business plan\nExplain when and how to use a business plan\nExplore the connections (and importance) between the words and the numbers\nLook at how to identify and manage cashflow within the business planning process
URL:https://investinangus.com/event/a-step-by-step-guide-to-building-your-business-plan-14/
CATEGORIES:Business Planning,Business Start-up
END:VEVENT
BEGIN:VEVENT
DTSTART;TZID=UTC:20250226T100000
DTEND;TZID=UTC:20250226T120000
DTSTAMP:20260419T215457
CREATED:20241202T092138Z
LAST-MODIFIED:20241202T092138Z
UID:10090433-1740564000-1740571200@investinangus.com
SUMMARY:Understanding co-ops
DESCRIPTION:Thinking of starting a business? Or looking for a different approach to your existing business or community venture? If you’re looking for an inclusive\, democratic approach to your business\, then a co-op could be a perfect fit. \nCompletely free to attend\, this online workshop explores how your business could thrive as a co-operative. It’s brought to you by Co-operative Development Scotland\, part of Scottish Enterprise. \nWhy co-ops?\nAll kinds of businesses operate as co-ops – pubs\, energy suppliers\, taxi firms\, bookstores\, community gardens\, wine sellers\, farms\, sports clubs\, and much more. \nThey are run by their members\, who can be customers\, employees\, residents\, or suppliers\, and who have a say in how the co-op is run – making it a fairer\, more collaborative and democratic way of doing business. \nCo-ops are also resilient as a business model. They are more than twice as likely to survive the early years of trading when compared to other start-up businesses. \nWhat to expect\nThis informative and interactive workshop will give you a more in-depth understanding of co-operatives\, as well as the next steps for starting one. You’ll discover: \n\nThe different kinds of co-ops and which might suit you best\nWhat membership means\nThe strengths of co-ops versus traditional business models\nCo-op values and principles\nCo-op facts and figures\nThe different legal forms a co-op can take\nSupport for co-ops from Co-operative Development Scotland\n\nThe workshop will be led by a co-op specialist from Co-operate Scotland LLP and will feature guests from local co-ops. Our guests will share their experiences of starting and running a co-op.
URL:https://investinangus.com/event/understanding-co-ops-2/
CATEGORIES:Business Planning
END:VEVENT
END:VCALENDAR