BEGIN:VCALENDAR
VERSION:2.0
PRODID:-//Invest in Angus - ECPv6.15.17.1//NONSGML v1.0//EN
CALSCALE:GREGORIAN
METHOD:PUBLISH
X-ORIGINAL-URL:https://investinangus.com
X-WR-CALDESC:Events for Invest in Angus
REFRESH-INTERVAL;VALUE=DURATION:PT1H
X-Robots-Tag:noindex
X-PUBLISHED-TTL:PT1H
BEGIN:VTIMEZONE
TZID:UTC
BEGIN:STANDARD
TZOFFSETFROM:+0000
TZOFFSETTO:+0000
TZNAME:UTC
DTSTART:20230101T000000
END:STANDARD
END:VTIMEZONE
BEGIN:VEVENT
DTSTART;TZID=UTC:20240305T100000
DTEND;TZID=UTC:20240305T110000
DTSTAMP:20260419T125739
CREATED:20240109T162138Z
LAST-MODIFIED:20240109T162138Z
UID:10088446-1709632800-1709636400@investinangus.com
SUMMARY:Community Wealth Building – Spending and Procurement
DESCRIPTION:Ready to continue your learning with Co-operative Development Scotland’s (CDS) Community Wealth Building programme? \nThis is the first of four webinars that explore how inclusive business models can contribute to the four key pillars of CWB: spending and procurement\, workforce\, land and property and finance. \nDelivered by support partners of CDS (including the Federation of Small Businesses\, Sustainable Procurement\, the Centre for Local Economic Strategies and the Supplier Development Programme) this webinar will explore how you can maximise community benefits through procurement and commissioning\, developing good enterprises\, fair work and shorter supply chains by commissioning Inclusive Business models. There will also be a chance to ask your questions to the expert panel. \nPlease note\, to attend this webinar you must have already attended the CDS workshop Inclusive Business Models – Identifying the Opportunities for Plural Ownership.
URL:https://investinangus.com/event/community-wealth-building-spending-and-procurement/
CATEGORIES:Business Planning
END:VEVENT
BEGIN:VEVENT
DTSTART;TZID=UTC:20240305T110000
DTEND;TZID=UTC:20240305T120000
DTSTAMP:20260419T125739
CREATED:20240226T153653Z
LAST-MODIFIED:20240226T153653Z
UID:10088772-1709636400-1709640000@investinangus.com
SUMMARY:Boost your productivity with AI
DESCRIPTION:This Google Digital Garage session introduces learners to cutting-edge AI tools that are already available from Google and others\, to show some of the smartest ways digital-age workers can use them to save time at work and on tasks. \nIn this session\, you will learn: \n\nan introduction to generative AI and how it works\nhow to use AI-powered tools and techniques to save you time\nan overview to crafting effective prompts\n\nThis session is run using YouTube and is 45 minutes long. \nThe course assumes no prior knowledge or experience so there is no pre-reading necessary. \nThere will be the opportunity to ask questions during the session.
URL:https://investinangus.com/event/boost-your-productivity-with-ai/
CATEGORIES:Business Planning,Technology
END:VEVENT
END:VCALENDAR