BEGIN:VCALENDAR
VERSION:2.0
PRODID:-//Invest in Angus - ECPv6.15.17.1//NONSGML v1.0//EN
CALSCALE:GREGORIAN
METHOD:PUBLISH
X-ORIGINAL-URL:https://investinangus.com
X-WR-CALDESC:Events for Invest in Angus
REFRESH-INTERVAL;VALUE=DURATION:PT1H
X-Robots-Tag:noindex
X-PUBLISHED-TTL:PT1H
BEGIN:VTIMEZONE
TZID:UTC
BEGIN:STANDARD
TZOFFSETFROM:+0000
TZOFFSETTO:+0000
TZNAME:UTC
DTSTART:20230101T000000
END:STANDARD
END:VTIMEZONE
BEGIN:VEVENT
DTSTART;TZID=UTC:20240423T100000
DTEND;TZID=UTC:20240423T120000
DTSTAMP:20260419T125624
CREATED:20240311T102735Z
LAST-MODIFIED:20240311T102735Z
UID:10088839-1713866400-1713873600@investinangus.com
SUMMARY:Delivering profit to drive growth
DESCRIPTION:The course covers financial analysis\, strategic decision-making\, resource allocation\, and the role of innovation and scalability in leveraging profit for long-term success. \nThis course explores the relationship between a company’s profitability and its potential for growth. Participants will learn how to optimise profits and strategically reinvest them to foster sustainable growth. The course covers financial analysis\, strategic decision-making\, resource allocation\, and the role of innovation and scalability in leveraging profit for long-term success. \nThe course will cover \n\nGetting to know your financials\nControlling Growth\nImproving decision making\nOpportunities\nCash is king\nControlling Change\nPricing strategies for maximum profit\nMeasuring profit
URL:https://investinangus.com/event/delivering-profit-to-drive-growth-4/
CATEGORIES:Business Planning,Finance
END:VEVENT
BEGIN:VEVENT
DTSTART;TZID=UTC:20240423T143000
DTEND;TZID=UTC:20240423T153000
DTSTAMP:20260419T125624
CREATED:20240415T111658Z
LAST-MODIFIED:20240415T111658Z
UID:10089042-1713882600-1713886200@investinangus.com
SUMMARY:Understanding machine learning
DESCRIPTION:This session teaches the foundations of how machine learning models learn and work\, the components of designing a problem for machine learning to solve and a basic understanding of the resources and tools needed for a business to invest in machine learning. Aimed at small business leaders / owners or anyone looking to get a better understanding on the subject. \nIn this session\, you will learn: \n\nhow different machine learning models work\nthe essentials for preparing data for a machine learning project\noptions for implementing machine learning for a business\n\nThis session is run using YouTube and is 60 minutes long. \nThe course assumes no prior knowledge or experience so there is no pre-reading necessary. \nThere will be the opportunity to ask questions during the session.
URL:https://investinangus.com/event/understanding-machine-learning-4/
CATEGORIES:Business Planning,Technology
END:VEVENT
END:VCALENDAR