BEGIN:VCALENDAR
VERSION:2.0
PRODID:-//Invest in Angus - ECPv6.15.17.1//NONSGML v1.0//EN
CALSCALE:GREGORIAN
METHOD:PUBLISH
X-ORIGINAL-URL:https://investinangus.com
X-WR-CALDESC:Events for Invest in Angus
REFRESH-INTERVAL;VALUE=DURATION:PT1H
X-Robots-Tag:noindex
X-PUBLISHED-TTL:PT1H
BEGIN:VTIMEZONE
TZID:UTC
BEGIN:STANDARD
TZOFFSETFROM:+0000
TZOFFSETTO:+0000
TZNAME:UTC
DTSTART:20230101T000000
END:STANDARD
END:VTIMEZONE
BEGIN:VEVENT
DTSTART;TZID=UTC:20240509T160000
DTEND;TZID=UTC:20240509T170000
DTSTAMP:20260419T071952
CREATED:20240415T112141Z
LAST-MODIFIED:20240415T112141Z
UID:10089046-1715270400-1715274000@investinangus.com
SUMMARY:Cyber security for you and your business
DESCRIPTION:Cyber security is an important skill for everyone to learn\, whether you’re an employee or managing your own business. This course introduces learners to the main weaknesses that cyber criminals look for and the most common cyber attacks that take place. Learn about some of the key steps you can take to ensure you and your business are safer online\, along with tips to securing devices and systems. \nIn this session you will learn: \n\nwhat cyber security is and what are key threats to look out for\nhow to secure your devices and systems\nhow to create a secure customer experience\n\nThis session is run using YouTube and is 60 minutes long. The course assumes no prior knowledge or experience so there is no pre-reading necessary. There will be the opportunity to ask questions during the session.
URL:https://investinangus.com/event/cyber-security-for-you-and-your-business/
CATEGORIES:Business Planning,Technology
END:VEVENT
END:VCALENDAR