BEGIN:VCALENDAR
VERSION:2.0
PRODID:-//Invest in Angus - ECPv6.15.17.1//NONSGML v1.0//EN
CALSCALE:GREGORIAN
METHOD:PUBLISH
X-WR-CALNAME:Invest in Angus
X-ORIGINAL-URL:https://investinangus.com
X-WR-CALDESC:Events for Invest in Angus
REFRESH-INTERVAL;VALUE=DURATION:PT1H
X-Robots-Tag:noindex
X-PUBLISHED-TTL:PT1H
BEGIN:VTIMEZONE
TZID:UTC
BEGIN:STANDARD
TZOFFSETFROM:+0000
TZOFFSETTO:+0000
TZNAME:UTC
DTSTART:20230101T000000
END:STANDARD
END:VTIMEZONE
BEGIN:VEVENT
DTSTART;TZID=UTC:20240515T090000
DTEND;TZID=UTC:20240515T100000
DTSTAMP:20260419T160248
CREATED:20240429T101212Z
LAST-MODIFIED:20240429T101226Z
UID:10089186-1715763600-1715767200@investinangus.com
SUMMARY:Essential Leadership - Taster & Information Session
DESCRIPTION:Are you a new business leader\, someone who aims to move to a leadership role in the next two to three years\, or the leader of a business that’s in the early stages of growth? \nIf so\, the Essential Leadership programme could be for you. \nYou can join our taster session\, which will give an overview of the programme. This will help yo ensure it’s the right leadership development programme for you. You’ll also get the opportunity to ask the team questions about the programme. \nWhats involved in the programme?\n\nPre-programme onboarding – diagnostics (including 360) will be undertaken with each participant prior to the structured learning sessions. During the feedback session the diagnostic results will be discussed\, and you’ll identify and agree on actions to take forward.\nFive half-day workshops – this programme of workshops is delivered over approximately three months. These facilitated sessions are where the like-minded individuals come together to learn\, and to share issues and solutions. You will support\, challenge\, and inspire each other.\nFour hours of coaching – with a dedicated qualified coach to further develop you as a leader. The focus can be on business or personal development.\nA half-day forward action planning session – you’ll review what you have learned\, track your progress to date and plan the next steps\, with the support of your sponsor.\n\nHow much does the full programme cost?\nThere is a cost to the programme\, which has been significantly subsidised by Scottish Enterprise – cost payable per delegate is £700 plus VAT.
URL:https://investinangus.com/event/essential-leadership-taster-information-session/
CATEGORIES:Business Planning,Skills & Training
END:VEVENT
BEGIN:VEVENT
DTSTART;TZID=UTC:20240515T160000
DTEND;TZID=UTC:20240515T170000
DTSTAMP:20260419T160248
CREATED:20240415T111534Z
LAST-MODIFIED:20240415T111534Z
UID:10089040-1715788800-1715792400@investinangus.com
SUMMARY:Managing the growth of your small business
DESCRIPTION:Starting a venture is one thing\, growing it is another. Scaling effectively can be one of the most challenging aspects\, with mis-managed growth often leading to downfall after so much time\, effort and money has been invested. So if you are a business owner that has started to see growth\, this webinar will help you to gain more creative\, time and financial freedom as your venture transitions to offer greater reach and impact. \nThis session will look at the principles of growth and: \n\nthe distinction between self-employment and business ownership\nidentifying and implementing optimal systems for record-keeping\, decision-making\, monitoring and evaluation\ndevising a range of risk-management processes to better manage business functions and the people involved\nhow to hire to enable and enhance expansion\nimproving workflow and project management\nlicensing\, franchising\, acquiring another venture
URL:https://investinangus.com/event/managing-the-growth-of-your-small-business-3/
CATEGORIES:Business Planning
END:VEVENT
END:VCALENDAR