BEGIN:VCALENDAR
VERSION:2.0
PRODID:-//Invest in Angus - ECPv6.15.17.1//NONSGML v1.0//EN
CALSCALE:GREGORIAN
METHOD:PUBLISH
X-WR-CALNAME:Invest in Angus
X-ORIGINAL-URL:https://investinangus.com
X-WR-CALDESC:Events for Invest in Angus
REFRESH-INTERVAL;VALUE=DURATION:PT1H
X-Robots-Tag:noindex
X-PUBLISHED-TTL:PT1H
BEGIN:VTIMEZONE
TZID:UTC
BEGIN:STANDARD
TZOFFSETFROM:+0000
TZOFFSETTO:+0000
TZNAME:UTC
DTSTART:20230101T000000
END:STANDARD
END:VTIMEZONE
BEGIN:VEVENT
DTSTART;TZID=UTC:20240528T100000
DTEND;TZID=UTC:20240528T120000
DTSTAMP:20260419T190949
CREATED:20240429T095328Z
LAST-MODIFIED:20240429T095328Z
UID:10089154-1716890400-1716897600@investinangus.com
SUMMARY:Ready\, Steady\, Grow: How to Expand Your Business
DESCRIPTION:This workshop will take place online via Zoom. Joining instructions will be shared with you once you have reserved your space. \nReady to accelerate your business growth but unsure where to begin? \nLook no further than our Ready Steady Grow workshop focused on accelerating business growth. Led by experienced business advisers\, this session is designed to help you identify your growth potential and create a roadmap for success. \nThrough collaborative discussions with like-minded businesses\, you’ll gain new insights\, tools and knowledge to help support your growth plans. You’ll also walk away with a network of fellow business owners to connect with for ongoing support. \nDon’t miss this opportunity to take your business to new heights!
URL:https://investinangus.com/event/ready-steady-grow-how-to-expand-your-business-13/
CATEGORIES:Business Planning,Networking
END:VEVENT
END:VCALENDAR