BEGIN:VCALENDAR
VERSION:2.0
PRODID:-//Invest in Angus - ECPv6.15.17.1//NONSGML v1.0//EN
CALSCALE:GREGORIAN
METHOD:PUBLISH
X-ORIGINAL-URL:https://investinangus.com
X-WR-CALDESC:Events for Invest in Angus
REFRESH-INTERVAL;VALUE=DURATION:PT1H
X-Robots-Tag:noindex
X-PUBLISHED-TTL:PT1H
BEGIN:VTIMEZONE
TZID:UTC
BEGIN:STANDARD
TZOFFSETFROM:+0000
TZOFFSETTO:+0000
TZNAME:UTC
DTSTART:20230101T000000
END:STANDARD
END:VTIMEZONE
BEGIN:VEVENT
DTSTART;TZID=UTC:20240619T090000
DTEND;TZID=UTC:20240620T140000
DTSTAMP:20260419T191141
CREATED:20240610T110238Z
LAST-MODIFIED:20240610T110238Z
UID:10089332-1718787600-1718892000@investinangus.com
SUMMARY:Summer School 2024: Innovation in Town and City Climate Action
DESCRIPTION:The Glasgow Climate Pact\, signed at COP26\, was a step forward in our effort to tackle climate change. But there are serious concerns that it is not enough. While the Glasgow Climate Pact gives guidelines on how we tackle climate change\, it’s not legally binding. \nA clear sign that we are not moving fast enough is that COP26 aimed to ‘keep 1.5ᵒC alive’\, to minimise a rise in global temperatures. In 2023\, just two years later\, 1.5ᵒC has already been breached. More needs to be done. \nSlow progress is not a new problem. The friction between countries on a global stage has always been a barrier to progress. That’s why there is a growing consensus that climate action has to be driven by towns and cities at a local level. The place management industry has every incentive to lead on this. \nNot only are our towns and cities exposed to extreme weather events which are taking a toll on the business community in areas hit by repeated storms and flooding\, but there are also a number of co-benefits to climate action which can bring economic growth. Furthermore\, as outlined in our ground breaking virtual event ‘Divided We Fall’ there needs to be the type of coordinated approach that necessitates the involvement of place management. \nFollowing the legacy of COP26\, Summer School 2024 will take place in Glasgow with a range of keynote sessions\, workshops\, study tours and panel debates. We will explore a number of issues crucial to local climate action including recovering from extreme weather\, business engagement on sustainability\, the 15 minute city\, and the impact of net zero on regeneration. We will use an amended format to deliver more interactive workshops and panel debate to allow members to share best practice.
URL:https://investinangus.com/event/summer-school-2024-innovation-in-town-and-city-climate-action/
LOCATION:University of Strathclyde\, 99 George Street\, Glasgow\, G1 1RD
CATEGORIES:Business Planning,Environment,Sustainable/Circular Economy
END:VEVENT
BEGIN:VEVENT
DTSTART;TZID=UTC:20240620T090000
DTEND;TZID=UTC:20240620T123000
DTSTAMP:20260419T191141
CREATED:20240603T094323Z
LAST-MODIFIED:20240603T094323Z
UID:10089312-1718874000-1718886600@investinangus.com
SUMMARY:Operational Excellence Breakfast Workshop
DESCRIPTION:At this highly interactive event\, the Scottish Manufacturing Advisory Service (SMAS) will simulate how businesses are run\, highlight some of the typical daily challenges that we experience and demonstrate an alternative way of looking at your business via simple ‘lean thinking’ principles. This approach is designed to help you gain a better understanding of what might be required to get you started on\, or maintain\, your operational excellence journey. \nThere will also be a live practical demonstration from SP Automation and Robotics. The demonstration will showcase some of the company’s products in automation\, Industry 4.0 technology and collaborative robots that look to improve productivity in manufacturing production. \nYou will also hear from Michelin Scotland Innovation Parc (MSIP) and The Skills Academy\, delivered by Dundee and Angus College. You’ll learn how\, by providing access to creative spaces\, skills training\, business advice and support\, the MSIP site has become an innovation ecosystem for manufacturers across the region and a prime location to sustainably grow your business. \nThis event is open to all manufacturers – large\, small and sector wide – who wish to improve business efficiency. Particularly those who have responsibility for championing or driving business improvement within the workplace and/or those involved in the implementation of new processes\, technologies and new ways of working.
URL:https://investinangus.com/event/operational-excellence-breakfast-workshop/
LOCATION:Michelin Innovation Parc\, Baldovie Road\, Dundee\, DD4 8UQ
CATEGORIES:Business Planning
END:VEVENT
BEGIN:VEVENT
DTSTART;TZID=UTC:20240620T143000
DTEND;TZID=UTC:20240620T153000
DTSTAMP:20260419T191141
CREATED:20240617T100535Z
LAST-MODIFIED:20240617T100535Z
UID:10089497-1718893800-1718897400@investinangus.com
SUMMARY:Boost your productivity with AI
DESCRIPTION:This Google Digital Garage session introduces learners to cutting-edge AI tools that are already available from Google and others\, to show some of the smartest ways digital-age workers can use them to save time at work and on tasks. \nIn this session\, you will learn: \n\nan introduction to generative AI and how it works\nhow to use AI-powered tools and techniques to save you time\nan overview to crafting effective prompts\n\nThis session is run using YouTube and is 45 minutes long. \nThe course assumes no prior knowledge or experience so there is no pre-reading necessary.
URL:https://investinangus.com/event/boost-your-productivity-with-ai-4/
CATEGORIES:Business Planning,Technology
END:VEVENT
BEGIN:VEVENT
DTSTART;TZID=UTC:20240620T150000
DTEND;TZID=UTC:20240620T160000
DTSTAMP:20260419T191141
CREATED:20240617T100439Z
LAST-MODIFIED:20240617T100439Z
UID:10089495-1718895600-1718899200@investinangus.com
SUMMARY:Managing the growth of your small business
DESCRIPTION:Starting a venture is one thing\, growing it is another. Scaling effectively can be one of the most challenging aspects\, with mis-managed growth often leading to downfall after so much time\, effort and money has been invested. So if you are a business owner that has started to see growth\, this webinar will help you to gain more creative\, time and financial freedom as your venture transitions to offer greater reach and impact. \nThis session will look at the principles of growth and: \n\nthe distinction between self-employment and business ownership\nidentifying and implementing optimal systems for record-keeping\, decision-making\, monitoring and evaluation\ndevising a range of risk-management processes to better manage business functions and the people involved\nhow to hire to enable and enhance expansion\nimproving workflow and project management\nlicensing\, franchising\, acquiring another venture
URL:https://investinangus.com/event/managing-the-growth-of-your-small-business-4/
CATEGORIES:Business Planning
END:VEVENT
BEGIN:VEVENT
DTSTART;TZID=UTC:20240620T160000
DTEND;TZID=UTC:20240620T170000
DTSTAMP:20260419T191141
CREATED:20240617T100348Z
LAST-MODIFIED:20240617T100348Z
UID:10089493-1718899200-1718902800@investinangus.com
SUMMARY:Understanding machine learning
DESCRIPTION:This session teaches the foundations of how machine learning models learn and work\, the components of designing a problem for machine learning to solve and a basic understanding of the resources and tools needed for a business to invest in machine learning. Aimed at small business leaders / owners or anyone looking to get a better understanding on the subject. \nIn this session\, you will learn: \n\nhow different machine learning models work\nthe essentials for preparing data for a machine learning project\noptions for implementing machine learning for a business\n\nThis session is run using YouTube and is 60 minutes long. \nThe course assumes no prior knowledge or experience so there is no pre-reading necessary.
URL:https://investinangus.com/event/understanding-machine-learning-5/
CATEGORIES:Business Planning,Technology
END:VEVENT
END:VCALENDAR