BEGIN:VCALENDAR
VERSION:2.0
PRODID:-//Invest in Angus - ECPv6.15.17.1//NONSGML v1.0//EN
CALSCALE:GREGORIAN
METHOD:PUBLISH
X-WR-CALNAME:Invest in Angus
X-ORIGINAL-URL:https://investinangus.com
X-WR-CALDESC:Events for Invest in Angus
REFRESH-INTERVAL;VALUE=DURATION:PT1H
X-Robots-Tag:noindex
X-PUBLISHED-TTL:PT1H
BEGIN:VTIMEZONE
TZID:UTC
BEGIN:STANDARD
TZOFFSETFROM:+0000
TZOFFSETTO:+0000
TZNAME:UTC
DTSTART:20230101T000000
END:STANDARD
END:VTIMEZONE
BEGIN:VEVENT
DTSTART;TZID=UTC:20240627T110000
DTEND;TZID=UTC:20240627T120000
DTSTAMP:20260419T000323
CREATED:20240617T100240Z
LAST-MODIFIED:20240617T100240Z
UID:10089491-1719486000-1719489600@investinangus.com
SUMMARY:Cyber security for your small business
DESCRIPTION:Around 83% of small and medium-sized businesses are not financially prepared to recover from a cyber attack –  which could mean going out of business. \nThis event aims to introduce start-ups and new businesses to the risks they face and provide top tips on how to avoid some common threats\, protect their organisation and enable them to win new business and gain stakeholder support. \nYour host Jim Wright will introduce security\, how it can benefit businesses and allow them to seize opportunities while minimising risk. Jim will also discuss common frameworks and fundamental principles that business leaders should know from the start of their business venture. \nBy the end of this webinar\, attendees will: \n\nunderstand security risks\nunderstand the benefits of security\nhave an awareness of threat actors\nhave an awareness of threat vectors\nhave an awareness of the services that can be offered to support start-ups\nunderstand the regulatory environment in which they work\nunderstand the common frameworks relating to security\n\nJim Wright is the founder and principal consultant of Principle Defence\, a Hertfordshire-based security and data protection consultancy and training provider. Jim has over 17 years of experience in security having served in the British Army before moving into the private sector. \nHe has worked with both private and public sector clients as a consultant\, working on multi-billion pound projects providing information security and data privacy advice and services. He holds a number of certifications including Fellow of Information Privacy from the International Association of Privacy Professionals and the Lead Security and Information Risk Advisor (L-SIRA) from the National Cyber Security Centre (NCSC). \nPrinciple Defence is a Trusted Partner of the Eastern Cyber Resilience Centre (a policing-led initiative) and is a Cyber Essentials Certification Body.
URL:https://investinangus.com/event/cyber-security-for-your-small-business-4/
CATEGORIES:Business Planning
END:VEVENT
BEGIN:VEVENT
DTSTART;TZID=UTC:20240627T140000
DTEND;TZID=UTC:20240627T160000
DTSTAMP:20260419T000323
CREATED:20240429T100708Z
LAST-MODIFIED:20240429T100708Z
UID:10089180-1719496800-1719504000@investinangus.com
SUMMARY:A step-by-step guide to building your business plan
DESCRIPTION:New and established businesses will require a business plan for getting a loan\, grant or just to consider the direction they wish to go in. This webinar will teach you what you need to include and how. We will walk you through what should be included within a business plan\, how a business plan is used to improve your prospects for a loan or a grant\, and how you can develop a business plan to meet your needs. \nWe will: \n\nProvide a structure for a business plan\nReview each section of what should be included within the business plan\nExplain when and how to use a business plan\nExplore the connections (and importance) between the words and the numbers\nLook at how to identify and manage cashflow within the business planning process
URL:https://investinangus.com/event/a-step-by-step-guide-to-building-your-business-plan-3/
CATEGORIES:Business Planning,Business Start-up
END:VEVENT
END:VCALENDAR