BEGIN:VCALENDAR
VERSION:2.0
PRODID:-//Invest in Angus - ECPv6.15.17.1//NONSGML v1.0//EN
CALSCALE:GREGORIAN
METHOD:PUBLISH
X-WR-CALNAME:Invest in Angus
X-ORIGINAL-URL:https://investinangus.com
X-WR-CALDESC:Events for Invest in Angus
REFRESH-INTERVAL;VALUE=DURATION:PT1H
X-Robots-Tag:noindex
X-PUBLISHED-TTL:PT1H
BEGIN:VTIMEZONE
TZID:UTC
BEGIN:STANDARD
TZOFFSETFROM:+0000
TZOFFSETTO:+0000
TZNAME:UTC
DTSTART:20230101T000000
END:STANDARD
END:VTIMEZONE
BEGIN:VEVENT
DTSTART;TZID=UTC:20240724T093000
DTEND;TZID=UTC:20240724T123000
DTSTAMP:20260419T205601
CREATED:20240603T094627Z
LAST-MODIFIED:20240603T094627Z
UID:10089317-1721813400-1721824200@investinangus.com
SUMMARY:Engaging in Lean
DESCRIPTION:The Scottish Manufacturing Advisory Service (SMAS) is pleased to invite you to this exercise-based workshop. \nThrough the workshop\, you’ll discover the easiest way to engage with your people to start to make improvements to the way work is done\, and how these fits within the wider philosophy of lean. \nWith simulation\, we’ll detail the tools and techniques of Lean\, as well as taking you through the change process and emphasise how best to achieve sustainable change in your business. \nIt’s a fantastic opportunity to find out how you and your workforce can work together in the best interests of the business.
URL:https://investinangus.com/event/engaging-in-lean/
LOCATION:Scottish Enterprise Glasgow\, 50 Waterloo Street\, Glasgow\, G2 6HQ
CATEGORIES:Business Planning
END:VEVENT
END:VCALENDAR