BEGIN:VCALENDAR
VERSION:2.0
PRODID:-//Invest in Angus - ECPv6.15.17.1//NONSGML v1.0//EN
CALSCALE:GREGORIAN
METHOD:PUBLISH
X-ORIGINAL-URL:https://investinangus.com
X-WR-CALDESC:Events for Invest in Angus
REFRESH-INTERVAL;VALUE=DURATION:PT1H
X-Robots-Tag:noindex
X-PUBLISHED-TTL:PT1H
BEGIN:VTIMEZONE
TZID:UTC
BEGIN:STANDARD
TZOFFSETFROM:+0000
TZOFFSETTO:+0000
TZNAME:UTC
DTSTART:20230101T000000
END:STANDARD
END:VTIMEZONE
BEGIN:VEVENT
DTSTART;TZID=UTC:20240725T160000
DTEND;TZID=UTC:20240725T180000
DTSTAMP:20260419T205928
CREATED:20240701T162000Z
LAST-MODIFIED:20240701T162000Z
UID:10089536-1721923200-1721930400@investinangus.com
SUMMARY:Ready\, Steady\, Grow: How to Expand Your Business
DESCRIPTION:Ready to accelerate your business growth but unsure where to begin? \nLook no further than our Ready Steady Grow workshop focused on accelerating business growth. Led by experienced business advisers\, this session is designed to help you identify your growth potential and create a roadmap for success. \nThrough collaborative discussions with like-minded businesses\, you’ll gain new insights\, tools and knowledge to help support your growth plans. You’ll also walk away with a network of fellow business owners to connect with for ongoing support. \nDon’t miss this opportunity to take your business to new heights!
URL:https://investinangus.com/event/ready-steady-grow-how-to-expand-your-business-15/
CATEGORIES:Business Planning
END:VEVENT
END:VCALENDAR