BEGIN:VCALENDAR
VERSION:2.0
PRODID:-//Invest in Angus - ECPv6.15.17.1//NONSGML v1.0//EN
CALSCALE:GREGORIAN
METHOD:PUBLISH
X-ORIGINAL-URL:https://investinangus.com
X-WR-CALDESC:Events for Invest in Angus
REFRESH-INTERVAL;VALUE=DURATION:PT1H
X-Robots-Tag:noindex
X-PUBLISHED-TTL:PT1H
BEGIN:VTIMEZONE
TZID:UTC
BEGIN:STANDARD
TZOFFSETFROM:+0000
TZOFFSETTO:+0000
TZNAME:UTC
DTSTART:20230101T000000
END:STANDARD
END:VTIMEZONE
BEGIN:VEVENT
DTSTART;TZID=UTC:20240726T113000
DTEND;TZID=UTC:20240726T133000
DTSTAMP:20260419T205926
CREATED:20240617T091720Z
LAST-MODIFIED:20240617T091720Z
UID:10089461-1721993400-1722000600@investinangus.com
SUMMARY:An introduction to business strategy
DESCRIPTION:This webinar is practical\, outcome driven\, and designed to fit with the needs of small businesses in both B2C and B2B environments. It will help you develop a strategically led approach that can turbo charge business growth\, identify the core growth strategy(ies) that are right for your business\, and develop an action plan. \nWe will look at: \n\nYour business today – identifying your strengths and areas for development\nThe key pillars of a business and why balancing all areas is essential for success\nPersonal and business ambitions and using these to guide strategy development\nAnsoff’s Matrix as a tool for identifying core growth strategies\nThe core components of your business delivery\nHow to develop a methodical\, strategic approach to developing your business for future success\n\nAfter the webinar\, you will understand: \n\nHow to undertake a balanced review of where your business is that helps identify areas for development\nAnsoff’s Matrix and how to use it as a core strategic planning tool\nHow to create a strategic plan for growing your business
URL:https://investinangus.com/event/an-introduction-to-business-strategy-3/
CATEGORIES:Business Planning
END:VEVENT
BEGIN:VEVENT
DTSTART;TZID=UTC:20240726T140000
DTEND;TZID=UTC:20240726T150000
DTSTAMP:20260419T205926
CREATED:20240715T083030Z
LAST-MODIFIED:20240715T083030Z
UID:10089676-1722002400-1722006000@investinangus.com
SUMMARY:Managing the growth of your small business
DESCRIPTION:Starting a venture is one thing\, growing it is another. Scaling effectively can be one of the most challenging aspects\, with mis-managed growth often leading to downfall after so much time\, effort and money has been invested. So if you are a business owner that has started to see growth\, this webinar will help you to gain more creative\, time and financial freedom as your venture transitions to offer greater reach and impact. \nThis session will look at the principles of growth and: \n\nthe distinction between self-employment and business ownership\nidentifying and implementing optimal systems for record-keeping\, decision-making\, monitoring and evaluation\ndevising a range of risk-management processes to better manage business functions and the people involved\nhow to hire to enable and enhance expansion\nimproving workflow and project management\nlicensing\, franchising\, acquiring another venture
URL:https://investinangus.com/event/managing-the-growth-of-your-small-business-6/
CATEGORIES:Business Planning
END:VEVENT
END:VCALENDAR