BEGIN:VCALENDAR
VERSION:2.0
PRODID:-//Invest in Angus - ECPv6.15.17.1//NONSGML v1.0//EN
CALSCALE:GREGORIAN
METHOD:PUBLISH
X-WR-CALNAME:Invest in Angus
X-ORIGINAL-URL:https://investinangus.com
X-WR-CALDESC:Events for Invest in Angus
REFRESH-INTERVAL;VALUE=DURATION:PT1H
X-Robots-Tag:noindex
X-PUBLISHED-TTL:PT1H
BEGIN:VTIMEZONE
TZID:UTC
BEGIN:STANDARD
TZOFFSETFROM:+0000
TZOFFSETTO:+0000
TZNAME:UTC
DTSTART:20230101T000000
END:STANDARD
END:VTIMEZONE
BEGIN:VEVENT
DTSTART;TZID=UTC:20240822T090000
DTEND;TZID=UTC:20240822T160000
DTSTAMP:20260419T224716
CREATED:20240617T095126Z
LAST-MODIFIED:20240617T095126Z
UID:10089476-1724317200-1724342400@investinangus.com
SUMMARY:Managing People for Growth - Hybrid
DESCRIPTION:Our workshops cover several key areas that can help you develop the skills of your people managers. You’ll learn how to: \n\nIdentify the skills and approaches managers require to perform their roles successfully both now and in the future\nImplement fair and progressive work practices through an understanding of key drivers that can develop new ways of working (for example\, the fair work framework\, productivity and benefits of employee engagement)\nUnderstand the importance of effectively maximising and improving existing staff skills\, while identifying the style and attributes of an effective manager\n\nAreas our workshops will focus on: \n1. The role of a manager \n2. Empowering teams and individuals \n3. Communication\, influencing and collaboration \n4. Coaching and delegation \n5. Managing individual performance \n6. Creating a culture of innovation
URL:https://investinangus.com/event/managing-people-for-growth-hybrid-2/
LOCATION:Connect Three\, 4 Rogart Street\, Bridgeton\, G40 2AA
CATEGORIES:Business Planning,HR
END:VEVENT
BEGIN:VEVENT
DTSTART;TZID=UTC:20240822T140000
DTEND;TZID=UTC:20240822T160000
DTSTAMP:20260419T224717
CREATED:20240708T085724Z
LAST-MODIFIED:20240708T085724Z
UID:10089570-1724335200-1724342400@investinangus.com
SUMMARY:A step-by-step guide to building your business plan
DESCRIPTION:New and established businesses will require a business plan for getting a loan\, grant or just to consider the direction they wish to go in. This webinar will teach you what you need to include and how. We will walk you through what should be included within a business plan\, how a business plan is used to improve your prospects for a loan or a grant\, and how you can develop a business plan to meet your needs. \nWe will: \n\nProvide a structure for a business plan\nReview each section of what should be included within the business plan\nExplain when and how to use a business plan\nExplore the connections (and importance) between the words and the numbers\nLook at how to identify and manage cashflow within the business planning process
URL:https://investinangus.com/event/a-step-by-step-guide-to-building-your-business-plan-6/
CATEGORIES:Business Planning,Business Start-up
END:VEVENT
END:VCALENDAR