BEGIN:VCALENDAR
VERSION:2.0
PRODID:-//Invest in Angus - ECPv6.15.17.1//NONSGML v1.0//EN
CALSCALE:GREGORIAN
METHOD:PUBLISH
X-WR-CALNAME:Invest in Angus
X-ORIGINAL-URL:https://investinangus.com
X-WR-CALDESC:Events for Invest in Angus
REFRESH-INTERVAL;VALUE=DURATION:PT1H
X-Robots-Tag:noindex
X-PUBLISHED-TTL:PT1H
BEGIN:VTIMEZONE
TZID:UTC
BEGIN:STANDARD
TZOFFSETFROM:+0000
TZOFFSETTO:+0000
TZNAME:UTC
DTSTART:20230101T000000
END:STANDARD
END:VTIMEZONE
BEGIN:VEVENT
DTSTART;TZID=UTC:20240903T090000
DTEND;TZID=UTC:20240903T160000
DTSTAMP:20260420T003900
CREATED:20240617T095335Z
LAST-MODIFIED:20240617T095335Z
UID:10089479-1725354000-1725379200@investinangus.com
SUMMARY:Managing People for Growth - Hybrid
DESCRIPTION:Our workshops cover several key areas that can help you develop the skills of your people managers. You’ll learn how to: \n\nIdentify the skills and approaches managers require to perform their roles successfully both now and in the future\nImplement fair and progressive work practices through an understanding of key drivers that can develop new ways of working (for example\, the fair work framework\, productivity and benefits of employee engagement)\nUnderstand the importance of effectively maximising and improving existing staff skills\, while identifying the style and attributes of an effective manager\n\nAreas our workshops will focus on: \n1. The role of a manager \n2. Empowering teams and individuals \n3. Communication\, influencing and collaboration \n4. Coaching and delegation \n5. Managing individual performance \n6. Creating a culture of innovation
URL:https://investinangus.com/event/managing-people-for-growth-hybrid-3/
LOCATION:Stirling University Innovation Park\, Scion House\, Stirling\, FK9 4LA
CATEGORIES:Business Planning,HR
END:VEVENT
BEGIN:VEVENT
DTSTART;TZID=UTC:20240903T180000
DTEND;TZID=UTC:20240903T200000
DTSTAMP:20260420T003900
CREATED:20240708T091638Z
LAST-MODIFIED:20240902T124308Z
UID:10089590-1725386400-1725393600@investinangus.com
SUMMARY:The Basics of Starting a Business
DESCRIPTION:This webinar will give you the information needed to build a start up action plan. The plan will enable you to consider which actions are relevant to your plan\, start building a set of SMART Goals\, give thought to business skills development and provide a clear path for steps to launch your business. \nYou will also learn about the key considerations when starting a business and what steps you will need to take from legal\, financial and strategic standpoints. \nBy the end of the webinar\, you will have the information required to start building an action plan and be confident about understanding the next steps.
URL:https://investinangus.com/event/the-basics-of-starting-a-business-13/
CATEGORIES:Business Planning,Business Start-up
END:VEVENT
END:VCALENDAR