BEGIN:VCALENDAR
VERSION:2.0
PRODID:-//Invest in Angus - ECPv6.15.17.1//NONSGML v1.0//EN
CALSCALE:GREGORIAN
METHOD:PUBLISH
X-WR-CALNAME:Invest in Angus
X-ORIGINAL-URL:https://investinangus.com
X-WR-CALDESC:Events for Invest in Angus
REFRESH-INTERVAL;VALUE=DURATION:PT1H
X-Robots-Tag:noindex
X-PUBLISHED-TTL:PT1H
BEGIN:VTIMEZONE
TZID:UTC
BEGIN:STANDARD
TZOFFSETFROM:+0000
TZOFFSETTO:+0000
TZNAME:UTC
DTSTART:20230101T000000
END:STANDARD
END:VTIMEZONE
BEGIN:VEVENT
DTSTART;TZID=UTC:20240912T093000
DTEND;TZID=UTC:20240912T113000
DTSTAMP:20260419T071032
CREATED:20240812T105612Z
LAST-MODIFIED:20240812T105612Z
UID:10089782-1726133400-1726140600@investinangus.com
SUMMARY:Climate springboard
DESCRIPTION:Climate Springboard is a free online workshop programme available to any Scottish small and medium enterprise. Learn about the net zero landscape for Scottish businesses including upcoming regulation and supply chain requirements. Hear insights into business support and funding opportunities and learn simple low-cost actions to reduce your carbon emissions easily. \nThe three fortnightly workshops consist of: \n\nan overview of the Scottish net zero landscape\nthe tools to calculate a carbon footprint and develop a strategy in-house\nsimple step guidance to take action\nthe opportunity to meet and learn from like-minded businesses\n\nFocused on simplifying an overwhelming challenge\, Climate Springboard was created from a unique partnership between the Royal Bank of Scotland and the University of Edinburgh. It is delivered online by The Edinburgh Climate Change Institute. \nThis is the first of three workshops. The second and third sessions will take place on 26 September and 10 October 2024.
URL:https://investinangus.com/event/climate-springboard/
CATEGORIES:Business Planning,Sustainable/Circular Economy
END:VEVENT
BEGIN:VEVENT
DTSTART;TZID=UTC:20240912T100000
DTEND;TZID=UTC:20240912T120000
DTSTAMP:20260419T071032
CREATED:20240617T095725Z
LAST-MODIFIED:20240617T095725Z
UID:10089486-1726135200-1726142400@investinangus.com
SUMMARY:Selling Your Business Masterclass
DESCRIPTION:Have you considered a succession plan for your business? It’s never too early to start thinking about your options. Employee ownership is quickly becoming the preferred exit route for business owners. \nAimed at business owners who are considering an exit from their company\, this session will give attendees the opportunity to hear from school\, dancewear and club uniform suppliers\, Smiths of Greenock. Speakers from the company will explain considerations they undertook when choosing employee ownership and how things have worked out as a result. \nRalph Leishman from 4-consulting will also talk through all ownership succession options before focussing on employee ownership and how to ensure the employee buyout is a smooth process.
URL:https://investinangus.com/event/selling-your-business-masterclass-5/
CATEGORIES:Business Planning
END:VEVENT
END:VCALENDAR