BEGIN:VCALENDAR
VERSION:2.0
PRODID:-//Invest in Angus - ECPv6.15.17.1//NONSGML v1.0//EN
CALSCALE:GREGORIAN
METHOD:PUBLISH
X-WR-CALNAME:Invest in Angus
X-ORIGINAL-URL:https://investinangus.com
X-WR-CALDESC:Events for Invest in Angus
REFRESH-INTERVAL;VALUE=DURATION:PT1H
X-Robots-Tag:noindex
X-PUBLISHED-TTL:PT1H
BEGIN:VTIMEZONE
TZID:UTC
BEGIN:STANDARD
TZOFFSETFROM:+0000
TZOFFSETTO:+0000
TZNAME:UTC
DTSTART:20230101T000000
END:STANDARD
END:VTIMEZONE
BEGIN:VEVENT
DTSTART;TZID=UTC:20240930T110000
DTEND;TZID=UTC:20240930T120000
DTSTAMP:20260420T001311
CREATED:20240812T121759Z
LAST-MODIFIED:20240812T121900Z
UID:10089792-1727694000-1727697600@investinangus.com
SUMMARY:Cyber Security for your small business
DESCRIPTION:To attend this webinar\, there are no prerequisites or prior experience needed. It is aimed at start-up businesses and those who are interested in creating a start-up. \nIt would also be beneficial for more established businesses who are looking at security as a business differentiator and learn how it can be used to win new business. \nYour host Jim Wright will introduce security\, how it can benefit businesses and allow you to seize opportunities while minimising risk. Jim will also discuss common frameworks and fundamental principles that business leaders should be aware of from the start of their business venture. \nBy the end of this webinar\, attendees will: \n1) Understand security risks \n2) Understand the benefits of security \n3) Have an awareness of threat actors \n4) Have an awareness of threat vectors \n5) Have an awareness of the services that can be offered to support start-ups \n6) Understand the regulatory environment in which they work \n7) Understand the common frameworks relating to security
URL:https://investinangus.com/event/cyber-security-for-your-small-business-6/
CATEGORIES:Business Planning
END:VEVENT
END:VCALENDAR