BEGIN:VCALENDAR
VERSION:2.0
PRODID:-//Invest in Angus - ECPv6.15.17.1//NONSGML v1.0//EN
CALSCALE:GREGORIAN
METHOD:PUBLISH
X-WR-CALNAME:Invest in Angus
X-ORIGINAL-URL:https://investinangus.com
X-WR-CALDESC:Events for Invest in Angus
REFRESH-INTERVAL;VALUE=DURATION:PT1H
X-Robots-Tag:noindex
X-PUBLISHED-TTL:PT1H
BEGIN:VTIMEZONE
TZID:UTC
BEGIN:STANDARD
TZOFFSETFROM:+0000
TZOFFSETTO:+0000
TZNAME:UTC
DTSTART:20230101T000000
END:STANDARD
END:VTIMEZONE
BEGIN:VEVENT
DTSTART;TZID=UTC:20241031T100000
DTEND;TZID=UTC:20241031T123000
DTSTAMP:20260420T060136
CREATED:20240827T152629Z
LAST-MODIFIED:20240827T152629Z
UID:10089888-1730368800-1730377800@investinangus.com
SUMMARY:Tourism Experiences: Mastering Online Travel Agents
DESCRIPTION:Can Online Travel Agents (OTAs) add to your growth and\, most importantly\, to your profitability? \nJoin our interactive webinar designed to provide visitor attractions\, activity providers\, and tour companies\, with an in depth understanding of working with OTAs. \nThis session will focus on businesses that are looking to start using OTAs for the first time and\, if already using an OTA\, how to improve the performance of your listings. \nAs part of this session\, you’ll be asked to analyse your own business practices and consider what might be improved. \nPlease note: There are limited places available for this session\, and registration will be on a first come\, first serve basis. \nDue to the format of this session\, which is specifically tailored for visitor attractions\, activity providers and tour companies\, please use the form to submit your interest in attending. It has a series of questions to make sure this session is right for your business.
URL:https://investinangus.com/event/tourism-experiences-mastering-online-travel-agents/
CATEGORIES:Business Planning,Tourism
END:VEVENT
BEGIN:VEVENT
DTSTART;TZID=UTC:20241031T130000
DTEND;TZID=UTC:20241031T150000
DTSTAMP:20260420T060136
CREATED:20241014T092832Z
LAST-MODIFIED:20241014T092832Z
UID:10090055-1730379600-1730386800@investinangus.com
SUMMARY:An introduction to business strategy
DESCRIPTION:This webinar is practical\, outcome driven\, and designed to fit with the needs of small businesses in both B2C and B2B environments. It will help you develop a strategically led approach that can turbo charge business growth\, identify the core growth strategy(ies) that are right for your business\, and develop an action plan. \nWe will look at: \n\nYour business today – identifying your strengths and areas for development\nThe key pillars of a business and why balancing all areas is essential for success\nPersonal and business ambitions and using these to guide strategy development\nAnsoff’s Matrix as a tool for identifying core growth strategies\nThe core components of your business delivery\nHow to develop a methodical\, strategic approach to developing your business for future success\n\nAfter the webinar\, you will understand: \n\nHow to undertake a balanced review of where your business is that helps identify areas for development\nAnsoff’s Matrix and how to use it as a core strategic planning tool\nHow to create a strategic plan for growing your business
URL:https://investinangus.com/event/an-introduction-to-business-strategy-7/
CATEGORIES:Business Planning
END:VEVENT
BEGIN:VEVENT
DTSTART;TZID=UTC:20241031T130000
DTEND;TZID=UTC:20241031T160000
DTSTAMP:20260420T060136
CREATED:20240902T133812Z
LAST-MODIFIED:20241014T092946Z
UID:10089945-1730379600-1730390400@investinangus.com
SUMMARY:Business Support – Drop In Sessions
DESCRIPTION:The Business Gateway team will be at Kirriemuir Library to offer expert advice and support for all your business questions. \nDrop in and speak to us\, or use the book now button and a member of the team will be in touch to book an appointment. \nWhether you’re just starting out or looking to grow business\, our advisers are here for you every step of the way.
URL:https://investinangus.com/event/business-support-drop-in-sessions-6/
LOCATION:Kirriemuir Library\, 28 Reform Street\, Kirriemuir\, DD8 4BS
CATEGORIES:Business Planning
END:VEVENT
END:VCALENDAR