BEGIN:VCALENDAR
VERSION:2.0
PRODID:-//Invest in Angus - ECPv6.15.17.1//NONSGML v1.0//EN
CALSCALE:GREGORIAN
METHOD:PUBLISH
X-ORIGINAL-URL:https://investinangus.com
X-WR-CALDESC:Events for Invest in Angus
REFRESH-INTERVAL;VALUE=DURATION:PT1H
X-Robots-Tag:noindex
X-PUBLISHED-TTL:PT1H
BEGIN:VTIMEZONE
TZID:UTC
BEGIN:STANDARD
TZOFFSETFROM:+0000
TZOFFSETTO:+0000
TZNAME:UTC
DTSTART:20230101T000000
END:STANDARD
END:VTIMEZONE
BEGIN:VEVENT
DTSTART;TZID=UTC:20241114T100000
DTEND;TZID=UTC:20241114T120000
DTSTAMP:20260420T110435
CREATED:20240715T081909Z
LAST-MODIFIED:20240715T081909Z
UID:10089665-1731578400-1731585600@investinangus.com
SUMMARY:Selling Your Business Masterclass
DESCRIPTION:Have you considered a succession plan for your business? It’s never too early to start thinking about your options. Employee ownership is fast becoming the preferred exit route for business owners. \nAimed at business owners who are considering an exit from their company\, this session will give attendees the opportunity to hear from industrial machinery manufacturer Fusion Mechanical and publishing services company Prepress Projects. Speakers from the companies will explain considerations they undertook when choosing employee ownership and how things have worked out as a result. \nLouise Fisher from Baxendale Employee Ownership will talk through all ownership succession options before focussing on employee ownership and how to ensure the employee buyout is a smooth process. \nTimings: \n10:05am Welcome – Glen Dott\, Scottish Enterprise \n10:10am Ownership Succession Options – Louise Fisher\, Baxendale Employee Ownership \n10:35am Employee Ownership Case Study – Fusion Mechanical \n11am Employee Ownership Case Study – Prepress Projects \n11:25am Support available – Glen Dott\, Scottish Enterprise \n11:30am Q&A \n11:45am Close \nAttend this workshop to learn how employee ownership offers a tax efficient exit route that protects your company’s legacy\, while providing a competitive price for the business. It could it be the perfect succession solution for you.
URL:https://investinangus.com/event/selling-your-business-masterclass-6/
CATEGORIES:Business Planning
END:VEVENT
END:VCALENDAR