BEGIN:VCALENDAR
VERSION:2.0
PRODID:-//Invest in Angus - ECPv6.15.17.1//NONSGML v1.0//EN
CALSCALE:GREGORIAN
METHOD:PUBLISH
X-WR-CALNAME:Invest in Angus
X-ORIGINAL-URL:https://investinangus.com
X-WR-CALDESC:Events for Invest in Angus
REFRESH-INTERVAL;VALUE=DURATION:PT1H
X-Robots-Tag:noindex
X-PUBLISHED-TTL:PT1H
BEGIN:VTIMEZONE
TZID:UTC
BEGIN:STANDARD
TZOFFSETFROM:+0000
TZOFFSETTO:+0000
TZNAME:UTC
DTSTART:20230101T000000
END:STANDARD
END:VTIMEZONE
BEGIN:VEVENT
DTSTART;TZID=UTC:20241127T090000
DTEND;TZID=UTC:20241127T163000
DTSTAMP:20260420T110314
CREATED:20240612T101538Z
LAST-MODIFIED:20240612T101538Z
UID:10089411-1732698000-1732725000@investinangus.com
SUMMARY:Scotland’s Towns Conference 2024
DESCRIPTION:Set against the backdrop of Perth’s major assets investments\, STC24 highlights the importance of cultural\, built\, and natural assets in driving economic\, social\, and environmental progress in Scotland’s towns and places. \nJoin us to discuss\, learn about and connect with the resilient and thriving places showcasing at Scotland’s Towns Conference 2024: “Investing in Our Assets for Sustainable Towns of the Future.” This year’s conference\, held on 27th November at Perth Concert Hall\, will delve into the critical role of cultural\, built\, and natural assets in fostering local economic\, social\, and environmental transformative change. \n\n\nBuilt assets and infrastructure: The backbone of our towns and places. \n\n\nCultural and heritage assets: Providing both economic and wider societal benefits. \n\n\nNatural assets: Greenspace\, water\, and biodiversity that sustain our environment. \n\n\nHuman\, social\, and financial capital: Leveraging the skills and abilities of individuals\, the strength of community\, public and private partnerships\, and the wealth accumulation potential within our towns. \n\n\nExplore how these assets open up potential for new jobs\, industry and enterprise\, driving forward economic growth and innovation. \nLearn how to leverage these diverse assets to create sustainable\, vibrant towns for future generations. Connect with industry experts\, share best practices\, and be part of the drive for positive change across Scotland. \nJoin us for an inspiring yet practice-based experience featuring study visits\, keynote speakers\, interactive workshops\, collaborative world café sessions and a solutions-based exhibition.
URL:https://investinangus.com/event/scotlands-towns-conference-2024/
LOCATION:Perth Concert Hall\, Mill Street\, Perth\, PH1 5HZ
CATEGORIES:Business Planning,Networking,Sustainable/Circular Economy
END:VEVENT
BEGIN:VEVENT
DTSTART;TZID=UTC:20241127T100000
DTEND;TZID=UTC:20241127T120000
DTSTAMP:20260420T110314
CREATED:20241014T101342Z
LAST-MODIFIED:20241014T101342Z
UID:10090112-1732701600-1732708800@investinangus.com
SUMMARY:Delivering profit to drive growth
DESCRIPTION:The course covers financial analysis\, strategic decision-making\, resource allocation\, and the role of innovation and scalability in leveraging profit for long-term success. \nWe will cover: \n\nGetting to know your financials\nControlling growth\nImproving decision making\nOpportunities\nCash is king\nControlling change\nPricing strategies for maximum profit\nMeasuring profit
URL:https://investinangus.com/event/delivering-profit-to-drive-growth-10/
CATEGORIES:Business Planning,Finance
END:VEVENT
BEGIN:VEVENT
DTSTART;TZID=UTC:20241127T100000
DTEND;TZID=UTC:20241127T120000
DTSTAMP:20260420T110314
CREATED:20241107T131425Z
LAST-MODIFIED:20241107T131425Z
UID:10090255-1732701600-1732708800@investinangus.com
SUMMARY:Screen Ready Online 2024
DESCRIPTION:Do you want to collaborate with film and TV crews? Or maybe you’re already involved in the industry and want to expand your reach? \nJoin TayScreen for a free online event on Wednesday\, 27th November at 10:00 AM. \nDiscover how your space or service can become sought-after for production and thrive by partnering with production teams. Don’t miss this chance to hear what’s happening in the Fife Tay region and Scotland and learn how to make your location or business stand out in the world of film and television. \nWe’re thrilled to welcome industry experts who will share insights\, answer questions\, and discuss opportunities: \n\nRhian Howells\, Location Manager and CEO Crew Network\nProfessor Niamh Nic Daeid\, Director\, Leverhulme Research Centre for Forensic Science and technical adviser on multiple crime dramas\nChris Wilson\, Head of Communications and Media\, V&A Dundee\nJenni Steele\, Film & Creative Industries Manager\, Visit Scotland\n\nWhat you’ll hear about: \n· What’s involved in location scouting and management\, what productions look for and why productions work with location and production managers. \n· With the region being a magnet for crime drama\, like Karen Pirie and Traces\, it’s a chance to hear if the science is fact or fiction \n· The experience of hosting production such as award winning TV series\, Succession\, by V&A Dundee – a location that’s a museum and open to the public \n· An update on screen tourism as Visit Scotland continues to work with big names in production including Disney’s National Geographic CreativeWorks to target US and UK visitors
URL:https://investinangus.com/event/screen-ready-online-2024/
CATEGORIES:Business Planning,Marketing
END:VEVENT
BEGIN:VEVENT
DTSTART;TZID=UTC:20241127T180000
DTEND;TZID=UTC:20241127T200000
DTSTAMP:20260420T110314
CREATED:20241014T101528Z
LAST-MODIFIED:20241014T101528Z
UID:10090116-1732730400-1732737600@investinangus.com
SUMMARY:From Vision to Reality: Understanding the Business Model Canvas
DESCRIPTION:In the session\, you will be guided through each segment of the canvas\, from identifying your key partners and resources to understanding who your customers are and the value your business will bring to them. You’ll also gain practical insights into what will cost and make money. \nThe Business Model Canvas is an effective tool at all stages of business development. It can be used as a pre-stage to writing a formal business plan\, essential for any funding applications. \nWhether you’re just starting out or looking to refine your existing business model\, this webinar will provide the strategies you need for success. Don’t miss this opportunity to transform your business idea into a viable\, scalable venture.
URL:https://investinangus.com/event/from-vision-to-reality-understanding-the-business-model-canvas-2/
CATEGORIES:Business Planning
END:VEVENT
END:VCALENDAR