BEGIN:VCALENDAR
VERSION:2.0
PRODID:-//Invest in Angus - ECPv6.15.17.1//NONSGML v1.0//EN
CALSCALE:GREGORIAN
METHOD:PUBLISH
X-ORIGINAL-URL:https://investinangus.com
X-WR-CALDESC:Events for Invest in Angus
REFRESH-INTERVAL;VALUE=DURATION:PT1H
X-Robots-Tag:noindex
X-PUBLISHED-TTL:PT1H
BEGIN:VTIMEZONE
TZID:UTC
BEGIN:STANDARD
TZOFFSETFROM:+0000
TZOFFSETTO:+0000
TZNAME:UTC
DTSTART:20230101T000000
END:STANDARD
END:VTIMEZONE
BEGIN:VEVENT
DTSTART;TZID=UTC:20241203T100000
DTEND;TZID=UTC:20241203T120000
DTSTAMP:20260420T115623
CREATED:20241014T111209Z
LAST-MODIFIED:20241014T111209Z
UID:10090129-1733220000-1733227200@investinangus.com
SUMMARY:The Basics of Starting a Business
DESCRIPTION:This webinar will give you the information needed to build a start up action plan. The plan will enable you to consider which actions are relevant to your plan\, start building a set of SMART Goals\, give thought to business skills development and provide a clear path for steps to launch your business. \nYou will also learn about the key considerations when starting a business and what steps you will need to take from legal\, financial and strategic standpoints. \nBy the end of the webinar\, you will have the information required to start building an action plan and be confident about understanding the next steps.
URL:https://investinangus.com/event/the-basics-of-starting-a-business-16/
CATEGORIES:Business Planning,Business Start-up
END:VEVENT
BEGIN:VEVENT
DTSTART;TZID=UTC:20241203T123000
DTEND;TZID=UTC:20241203T133000
DTSTAMP:20260420T115623
CREATED:20241202T085737Z
LAST-MODIFIED:20241202T085737Z
UID:10090395-1733229000-1733232600@investinangus.com
SUMMARY:Behind the business: Challenges\, wins & strategies for success
DESCRIPTION:In celebration of Small Business Saturday\, we’ve brought together three business owners from across Scotland to reflect on their business journeys so far\, and plans for the future. The panel will discuss the challenges that come with running a small business\, as well as the various opportunities for growth and learning. \nThe session will explore: \n\nThe most rewarding parts of running a small business\nThe biggest challenges and how to overcome them\nWhat support has made the biggest difference\nDifferent options for financing growth\nWhat changes would make a difference to Scotland’s entrepreneurial ecosystem\n\nWhether you’re looking to start-up or grow your business\, this session will offer tools and inspiration to help you succeed. \nPanellists include: \nHugh Lightbody\, Chief Officer\, Business Gateway National Unit (Host)\nDr Kate Smith\, PhD\, Founder & CEO\, ProfessorMe\nKaren Robinson\, Founder\, Three Robins\nDouglas Hardie\, Director\, Highland Food & Drink Trail
URL:https://investinangus.com/event/behind-the-business-challenges-wins-strategies-for-success/
CATEGORIES:Business Planning
END:VEVENT
BEGIN:VEVENT
DTSTART;TZID=UTC:20241203T130000
DTEND;TZID=UTC:20241203T150000
DTSTAMP:20260420T115623
CREATED:20241014T111304Z
LAST-MODIFIED:20241014T111304Z
UID:10090131-1733230800-1733238000@investinangus.com
SUMMARY:Intellectual Property (IP) Masterclass
DESCRIPTION:This masterclass will explain Intellectual Property (IP) and provide clear guidance on how to address issues related to copyright\, trademarks\, patents\, and more that SMEs might encounter. Our expert speaker\, Alan Rae\, has years of experience with IP legislation\, offering guidance to a number of academic and commercial organisations on raising IP awareness and managing any arising issues. \nDuring the masterclass\, you will see several relevant examples of IP issues that may affect your business. This is an interactive workshop\, and we encourage participants to ask specific questions they may be facing in their own business. This is your chance to get expert feedback and help others who might be dealing with similar issues.
URL:https://investinangus.com/event/intellectual-property-ip-masterclass/
LOCATION:Arbroath Football Club\, Gayfield Park\, Arbroath\, DD11 1QJ
CATEGORIES:Business Planning,Legislation
END:VEVENT
END:VCALENDAR