BEGIN:VCALENDAR
VERSION:2.0
PRODID:-//Invest in Angus - ECPv6.15.17.1//NONSGML v1.0//EN
CALSCALE:GREGORIAN
METHOD:PUBLISH
X-WR-CALNAME:Invest in Angus
X-ORIGINAL-URL:https://investinangus.com
X-WR-CALDESC:Events for Invest in Angus
REFRESH-INTERVAL;VALUE=DURATION:PT1H
X-Robots-Tag:noindex
X-PUBLISHED-TTL:PT1H
BEGIN:VTIMEZONE
TZID:UTC
BEGIN:STANDARD
TZOFFSETFROM:+0000
TZOFFSETTO:+0000
TZNAME:UTC
DTSTART:20230101T000000
END:STANDARD
END:VTIMEZONE
BEGIN:VEVENT
DTSTART;TZID=UTC:20241204T093000
DTEND;TZID=UTC:20241204T123000
DTSTAMP:20260420T134003
CREATED:20241125T102305Z
LAST-MODIFIED:20241125T102305Z
UID:10090362-1733304600-1733315400@investinangus.com
SUMMARY:Understanding Co-ops
DESCRIPTION:Are you thinking of starting a business? Or looking for a different approach to your existing business or community venture? Have you considered a co-op? \nIf you’re looking for an inclusive\, democratic approach to your business\, then a co-op could be the perfect fit. \nOur free event\, Understanding Co-ops\, is brought to you by Co-operative Development Scotland\, one of Scottish Enterprise’s services\, and explores how your business can thrive as a co-operative. \nWhy co-ops?\nAll kinds of businesses operate as co-ops. These include pubs\, energy suppliers\, taxi firms\, bookstores\, community gardens\, wine sellers\, farms\, sports clubs\, and much more. \nCo-ops are run by their members. They can be customers\, employees\, residents\, or suppliers. They have a say in how the co-op is run – this makes it a fairer\, more collaborative\, and democratic way of doing business. \nCo-ops are also resilient as a business model. They are more than twice as likely to survive the early years of trading when compared to other start-up businesses. \nWhat to expect\nThe workshop will be led by a co-op specialist from Co-operate Scotland LLP and will feature guests from local co-ops: \n\nRadiophrenia\nGreencity Wholesfoods\n\nOur guests will share their experiences of starting and running a co-op. \nThis informative and interactive workshop will give you a more in-depth understanding of co-operatives\, as well as the initial steps required to start one. You’ll discover: \n\nThe different kinds of co-ops available and learn which type might suit you best\nWhat membership means\nThe strengths of co-ops versus traditional business models\nCo-op values and principles\nCo-op facts and figures\nThe different legal forms a co-op can take\nSupport for co-ops from Co-operative Development Scotland
URL:https://investinangus.com/event/understanding-co-ops/
LOCATION:The Studio Glasgow\, 67 Hope Street\, G2 6AE
CATEGORIES:Business Planning
END:VEVENT
BEGIN:VEVENT
DTSTART;TZID=UTC:20241204T160000
DTEND;TZID=UTC:20241204T180000
DTSTAMP:20260420T134003
CREATED:20241021T081427Z
LAST-MODIFIED:20241021T081427Z
UID:10090151-1733328000-1733335200@investinangus.com
SUMMARY:Ready\, Steady\, Grow: How to Expand Your Business
DESCRIPTION:Ready to accelerate your business growth but unsure where to begin? \nLook no further than our Ready Steady Grow workshop focused on accelerating business growth. Led by experienced business advisers\, this session is designed to help you identify your growth potential and create a roadmap for success. \nThrough collaborative discussions with like-minded businesses\, you’ll gain new insights\, tools and knowledge to help support your growth plans. You’ll also walk away with a network of fellow business owners to connect with for ongoing support. \nDon’t miss this opportunity to take your business to new heights!
URL:https://investinangus.com/event/ready-steady-grow-how-to-expand-your-business-20/
CATEGORIES:Business Planning
END:VEVENT
END:VCALENDAR