BEGIN:VCALENDAR
VERSION:2.0
PRODID:-//Invest in Angus - ECPv6.15.17.1//NONSGML v1.0//EN
CALSCALE:GREGORIAN
METHOD:PUBLISH
X-WR-CALNAME:Invest in Angus
X-ORIGINAL-URL:https://investinangus.com
X-WR-CALDESC:Events for Invest in Angus
REFRESH-INTERVAL;VALUE=DURATION:PT1H
X-Robots-Tag:noindex
X-PUBLISHED-TTL:PT1H
BEGIN:VTIMEZONE
TZID:UTC
BEGIN:STANDARD
TZOFFSETFROM:+0000
TZOFFSETTO:+0000
TZNAME:UTC
DTSTART:20230101T000000
END:STANDARD
END:VTIMEZONE
BEGIN:VEVENT
DTSTART;TZID=UTC:20241210T100000
DTEND;TZID=UTC:20241210T120000
DTSTAMP:20260420T134031
CREATED:20241202T091842Z
LAST-MODIFIED:20241202T091842Z
UID:10090426-1733824800-1733832000@investinangus.com
SUMMARY:Unlocking productivity: the power of collaborative robotics
DESCRIPTION:Smart Hub Lanarkshire helps small to medium-sized manufacturing businesses explore the uses of collaborative robots (cobots). Scottish Enterprise helps Scottish companies unlock productivity through capital investment. This event combines both areas of expertise to help companies understand the support that’s available when they invest in collaborative robots. \nThe event will run for two hours from 10am to 12pm\, with the following agenda: \n• Scottish Enterprise’s mission: capital investment for productivity \n• Overview of Smart Hub and cobots capability \n• Case studies – the applications of cobots in different manufacturing settings \n• Interactive cobot demonstration and learning session \n• Next steps – exploring the cobot offering and grants \nIf there is enough demand for this workshop\, an additional afternoon session will be arranged to accommodate the numbers. \nThe Smart Hub team will be in contact a few days before the workshop to share a welcome pack with logistical details. They’ll also ask about your areas of interest to help shape the workshop content to suit the audience and maximise learning.
URL:https://investinangus.com/event/unlocking-productivity-the-power-of-collaborative-robotics/
LOCATION:Smart Hub Lanarkshire\, New College Lanarkshire\, Motherwell\, ML1 2TX\, United Kingdom
CATEGORIES:Business Planning,Technology
END:VEVENT
BEGIN:VEVENT
DTSTART;TZID=UTC:20241210T123000
DTEND;TZID=UTC:20241210T133000
DTSTAMP:20260420T134031
CREATED:20241209T085903Z
LAST-MODIFIED:20241209T085903Z
UID:10090440-1733833800-1733837400@investinangus.com
SUMMARY:UK and Scottish Budget Breakdown
DESCRIPTION:The UK and Scottish Budgets are two of the most significant political events of the year\, setting the tone for the nation’s economic priorities and policy direction. \nThis webinar will unpack the key announcements from the UK and Scottish Budgets and explore their implications for small and medium-sized enterprises (SMEs) across Scotland. Our expert panel will break down the fiscal measures\, funding allocations and policy updates that could shape the business environment in 2025 and beyond. \nWhether you’re navigating tax changes\, seeking growth opportunities\, or planning for potential changes\, this session is designed to provide practical insights and actionable advice tailored to SMEs. Don’t miss this opportunity to gain a clear understanding of the budget’s impact and discover strategies to position your business for success in the evolving economic landscape.
URL:https://investinangus.com/event/uk-and-scottish-budget-breakdown/
CATEGORIES:Business Planning,Finance
END:VEVENT
END:VCALENDAR