BEGIN:VCALENDAR
VERSION:2.0
PRODID:-//Invest in Angus - ECPv6.15.17.1//NONSGML v1.0//EN
CALSCALE:GREGORIAN
METHOD:PUBLISH
X-ORIGINAL-URL:https://investinangus.com
X-WR-CALDESC:Events for Invest in Angus
REFRESH-INTERVAL;VALUE=DURATION:PT1H
X-Robots-Tag:noindex
X-PUBLISHED-TTL:PT1H
BEGIN:VTIMEZONE
TZID:UTC
BEGIN:STANDARD
TZOFFSETFROM:+0000
TZOFFSETTO:+0000
TZNAME:UTC
DTSTART:20230101T000000
END:STANDARD
END:VTIMEZONE
BEGIN:VEVENT
DTSTART;TZID=UTC:20241216T110000
DTEND;TZID=UTC:20241216T120000
DTSTAMP:20260420T115625
CREATED:20241125T102724Z
LAST-MODIFIED:20241125T102724Z
UID:10090365-1734346800-1734350400@investinangus.com
SUMMARY:Cyber security for your small business
DESCRIPTION:Around 83% of small and medium-sized businesses are not financially prepared to recover from a cyber attack –  which could mean going out of business. \nThis event aims to introduce start-ups and new businesses to the risks they face and provide top tips on how to avoid some common threats\, protect their organisation and enable them to win new business and gain stakeholder support. \nYour host Jim Wright will introduce security\, how it can benefit businesses and allow them to seize opportunities while minimising risk. Jim will also discuss common frameworks and fundamental principles that business leaders should know from the start of their business venture. \nBy the end of this webinar\, attendees will: \n\nunderstand security risks\nunderstand the benefits of security\nhave an awareness of threat actors\nhave an awareness of threat vectors\nhave an awareness of the services that can be offered to support start-ups\nunderstand the regulatory environment in which they work\nunderstand the common frameworks relating to security\n\nJim Wright is the founder and principal consultant of Principle Defence\, a Hertfordshire-based security and data protection consultancy and training provider. Jim has over 17 years of experience in security having served in the British Army before moving into the private sector. \nHe has worked with both private and public sector clients as a consultant\, working on multi-billion pound projects providing information security and data privacy advice and services. He holds a number of certifications including Fellow of Information Privacy from the International Association of Privacy Professionals and the Lead Security and Information Risk Advisor (L-SIRA) from the National Cyber Security Centre (NCSC). \nPrinciple Defence is a Trusted Partner of the Eastern Cyber Resilience Centre (a policing-led initiative) and is a Cyber Essentials Certification Body.
URL:https://investinangus.com/event/cyber-security-for-your-small-business-9/
CATEGORIES:Business Planning,Technology
END:VEVENT
BEGIN:VEVENT
DTSTART;TZID=UTC:20241216T130000
DTEND;TZID=UTC:20241216T160000
DTSTAMP:20260420T115625
CREATED:20241021T081728Z
LAST-MODIFIED:20241021T081728Z
UID:10090157-1734354000-1734364800@investinangus.com
SUMMARY:Business Support – Drop In Sessions (Carnoustie Library)
DESCRIPTION:The Business Gateway team will be at Carnoustie Library to offer expert advice and support for all your business questions. \nDrop in and speak to us\, or use the book now button and a member of the team will be in touch to book an appointment. \nWhether you’re just starting out or looking to grow business\, our advisers are here for you every step of the way.
URL:https://investinangus.com/event/business-support-drop-in-sessions-carnoustie-library/
LOCATION:Carnoustie Library\, 21 High Street\, Carnoustie\, DD7 6AN
CATEGORIES:Business Planning,Business Start-up
END:VEVENT
END:VCALENDAR