BEGIN:VCALENDAR
VERSION:2.0
PRODID:-//Invest in Angus - ECPv6.15.17.1//NONSGML v1.0//EN
CALSCALE:GREGORIAN
METHOD:PUBLISH
X-ORIGINAL-URL:https://investinangus.com
X-WR-CALDESC:Events for Invest in Angus
REFRESH-INTERVAL;VALUE=DURATION:PT1H
X-Robots-Tag:noindex
X-PUBLISHED-TTL:PT1H
BEGIN:VTIMEZONE
TZID:UTC
BEGIN:STANDARD
TZOFFSETFROM:+0000
TZOFFSETTO:+0000
TZNAME:UTC
DTSTART:20240101T000000
END:STANDARD
END:VTIMEZONE
BEGIN:VEVENT
DTSTART;TZID=UTC:20250120T130000
DTEND;TZID=UTC:20250120T160000
DTSTAMP:20260420T102437
CREATED:20250106T114104Z
LAST-MODIFIED:20250106T114104Z
UID:10090484-1737378000-1737388800@investinangus.com
SUMMARY:Business Support – Drop In Sessions (Carnoustie Library)
DESCRIPTION:The Business Gateway team will be at Carnoustie Library to offer expert advice and support for all your business questions. \nDrop in and speak to us\, or use the book now button and a member of the team will be in touch to book an appointment. \nWhether you’re just starting out or looking to grow business\, our advisers are here for you every step of the way.
URL:https://investinangus.com/event/business-support-drop-in-sessions-carnoustie-library-2/
LOCATION:Carnoustie Library\, 21 High Street\, Carnoustie\, DD7 6AN
CATEGORIES:Business Planning,Business Start-up
END:VEVENT
END:VCALENDAR