BEGIN:VCALENDAR
VERSION:2.0
PRODID:-//Invest in Angus - ECPv6.15.17.1//NONSGML v1.0//EN
CALSCALE:GREGORIAN
METHOD:PUBLISH
X-WR-CALNAME:Invest in Angus
X-ORIGINAL-URL:https://investinangus.com
X-WR-CALDESC:Events for Invest in Angus
REFRESH-INTERVAL;VALUE=DURATION:PT1H
X-Robots-Tag:noindex
X-PUBLISHED-TTL:PT1H
BEGIN:VTIMEZONE
TZID:UTC
BEGIN:STANDARD
TZOFFSETFROM:+0000
TZOFFSETTO:+0000
TZNAME:UTC
DTSTART:20240101T000000
END:STANDARD
END:VTIMEZONE
BEGIN:VEVENT
DTSTART;TZID=UTC:20250122T090000
DTEND;TZID=UTC:20250122T123000
DTSTAMP:20260420T120030
CREATED:20241216T085057Z
LAST-MODIFIED:20241216T085057Z
UID:10090454-1737536400-1737549000@investinangus.com
SUMMARY:Introduction to Lean Workshop
DESCRIPTION:Improving productivity in your business can reduce costs and increase competitiveness. \nOne way to boost your productivity – and keep it high – is to employ Lean Thinking Principles. \nHosted in partnership with Tay Cities Engineering Partnership and UHI Perth\, this breakfast workshop is an ideal opportunity to learn all about lean techniques and how they could help your business. \nAs well as providing a short overview of the Scottish Manufacturing Advisory Service (SMAS)\, this interactive workshop will explore how lean manufacturing can help engage people and create sustainable change in your business. \nAs the workshop will take place at the UHI Perth\, this will also be an opportunity to hear how our partners at Tay Cities Engineering Partnership are sharing expertise and collaborating to drive up the skills and technology base of the sector. \nWho should attend:\nThis event is for business leaders who want to understand the basics of improvement through team-building exercises and practical application. \nThrough the manufacturing simulation provided\, you’ll gain an understanding of the wastes and learn the importance of Performance Management. \nThis activity workshop provides the opportunity to step back from current operations\, review the essential implementation elements of improvement\, and assess the way forward for your organisation.
URL:https://investinangus.com/event/introduction-to-lean-workshop/
LOCATION:UHI Perth\, Crieff Road\, Perth\, PH1 2NX
CATEGORIES:Business Planning
END:VEVENT
BEGIN:VEVENT
DTSTART;TZID=UTC:20250122T100000
DTEND;TZID=UTC:20250122T120000
DTSTAMP:20260420T120030
CREATED:20241118T094142Z
LAST-MODIFIED:20241118T094142Z
UID:10090334-1737540000-1737547200@investinangus.com
SUMMARY:Delivering profit to drive growth
DESCRIPTION:The course covers financial analysis\, strategic decision-making\, resource allocation\, and the role of innovation and scalability in leveraging profit for long-term success. \nWe will cover: \n\nGetting to know your financials\nControlling growth\nImproving decision making\nOpportunities\nCash is king\nControlling change\nPricing strategies for maximum profit\nMeasuring profit
URL:https://investinangus.com/event/delivering-profit-to-drive-growth-11/
CATEGORIES:Business Planning,Finance
END:VEVENT
BEGIN:VEVENT
DTSTART;TZID=UTC:20250122T123000
DTEND;TZID=UTC:20250122T133000
DTSTAMP:20260420T120030
CREATED:20250120T173827Z
LAST-MODIFIED:20250120T173827Z
UID:10090542-1737549000-1737552600@investinangus.com
SUMMARY:The 2025 playbook: this year's key business trends
DESCRIPTION:From advancements in AI to shifts in social media\, customer behaviour and attracting talent\, this session will provide actionable insights to keep you ahead of the curve. Our expert panel\, hosted by Hugh Lightbody\, will share their predictions\, case studies\, and strategies for leveraging these trends to drive growth and ensure you can stay competitive in an ever-changing landscape. \nThis session will cover: \n\nThe significant trends shaping the business landscape in 2025\nHow businesses can adapt to the rapid pace of change in technology and market demands\nEffective strategies to help small businesses remain resilient during uncertain times\nHow consumer preferences and behaviours will evolve this year\nThe role of digital transformation in helping businesses stay competitive\nHow businesses can train and bring in new talent\n\nPanellists include: \n\nHugh Lightbody (Host)\, Chief Officer\, Business Gateway National Unit\nGenevieve White\, Business Gateway Adviser & Founder of Campion Comms\nSean McGrath\, CEO\, Entrepreneurial Scotland Foundation\nGary Ennis\, Founder\, Managing Director & Senior Consultant\, NSDesign Ltd
URL:https://investinangus.com/event/the-2025-playbook-this-years-key-business-trends/
CATEGORIES:Business Planning
END:VEVENT
BEGIN:VEVENT
DTSTART;TZID=UTC:20250122T180000
DTEND;TZID=UTC:20250122T200000
DTSTAMP:20260420T120031
CREATED:20241209T085949Z
LAST-MODIFIED:20241209T085949Z
UID:10090442-1737568800-1737576000@investinangus.com
SUMMARY:Ready\, Steady\, Grow: How to Expand Your Business
DESCRIPTION:Ready to accelerate your business growth but unsure where to begin? \nLook no further than our Ready Steady Grow workshop focused on accelerating business growth. Led by experienced business advisers\, this session is designed to help you identify your growth potential and create a roadmap for success. \nThrough collaborative discussions with like-minded businesses\, you’ll gain new insights\, tools and knowledge to help support your growth plans. You’ll also walk away with a network of fellow business owners to connect with for ongoing support. \nDon’t miss this opportunity to take your business to new heights!
URL:https://investinangus.com/event/ready-steady-grow-how-to-expand-your-business-21/
CATEGORIES:Business Planning
END:VEVENT
END:VCALENDAR