BEGIN:VCALENDAR
VERSION:2.0
PRODID:-//Invest in Angus - ECPv6.15.17.1//NONSGML v1.0//EN
CALSCALE:GREGORIAN
METHOD:PUBLISH
X-ORIGINAL-URL:https://investinangus.com
X-WR-CALDESC:Events for Invest in Angus
REFRESH-INTERVAL;VALUE=DURATION:PT1H
X-Robots-Tag:noindex
X-PUBLISHED-TTL:PT1H
BEGIN:VTIMEZONE
TZID:UTC
BEGIN:STANDARD
TZOFFSETFROM:+0000
TZOFFSETTO:+0000
TZNAME:UTC
DTSTART:20240101T000000
END:STANDARD
END:VTIMEZONE
BEGIN:VEVENT
DTSTART;TZID=UTC:20250123T100000
DTEND;TZID=UTC:20250123T160000
DTSTAMP:20260420T102552
CREATED:20241216T085332Z
LAST-MODIFIED:20241216T085332Z
UID:10090459-1737626400-1737648000@investinangus.com
SUMMARY:EOI - Scaling Internationally with Amazon & Other Global Marketplaces
DESCRIPTION:If you’re an established company looking to scale internationally\, this flexible accelerator programme is for you. \nWith a primary focus on maximising success on Amazon\, you’ll also explore other key online marketplaces including eBay and Etsy\, as well as specialised wholesale online marketplaces like Alibaba\, Wayfair\, Faire and more. \nThe programme will provide you with actionable strategies to expand your reach\, optimise marketplace performance\, and grow sales globally. \nYou’ll also benefit from a bespoke action plan and personalised 1-2-1 support to create your custom international growth strategy. \nProgramme Format:\nThis online programme will start on Wednesday 22 Jan 2025 with an in-person event. \nThe learning modules will then be released online\, and followed with bi-weekly Teams catch ups. \nThe programme will end on Wednesday 23 Apr 2025 with a final in-person event.
URL:https://investinangus.com/event/eoi-scaling-internationally-with-amazon-other-global-marketplaces/
CATEGORIES:Business Planning,International Trade
END:VEVENT
END:VCALENDAR