BEGIN:VCALENDAR
VERSION:2.0
PRODID:-//Invest in Angus - ECPv6.15.17.1//NONSGML v1.0//EN
CALSCALE:GREGORIAN
METHOD:PUBLISH
X-ORIGINAL-URL:https://investinangus.com
X-WR-CALDESC:Events for Invest in Angus
REFRESH-INTERVAL;VALUE=DURATION:PT1H
X-Robots-Tag:noindex
X-PUBLISHED-TTL:PT1H
BEGIN:VTIMEZONE
TZID:UTC
BEGIN:STANDARD
TZOFFSETFROM:+0000
TZOFFSETTO:+0000
TZNAME:UTC
DTSTART:20240101T000000
END:STANDARD
END:VTIMEZONE
BEGIN:VEVENT
DTSTART;TZID=UTC:20250320T100000
DTEND;TZID=UTC:20250320T120000
DTSTAMP:20260419T215941
CREATED:20250203T100630Z
LAST-MODIFIED:20250203T100630Z
UID:10090698-1742464800-1742472000@investinangus.com
SUMMARY:Selling Your Business Masterclass
DESCRIPTION:Have you considered a succession plan for your business? It’s never too early to start thinking about your options. Employee ownership is fast becoming the preferred exit route for business owners. \nAimed at business owners considering an exit from their company\, this session will give attendees the opportunity to hear specialist hydrocarbon accounting consultancy Accord Energy Solutions explain what they considered in choosing employee ownership and how things have worked. \nLouise Fisher from Baxendale EO will talk through all ownership succession options before focussing on employee ownership and how to ensure the employee buyout is a smooth process.
URL:https://investinangus.com/event/selling-your-business-masterclass-8/
CATEGORIES:Business Planning
END:VEVENT
BEGIN:VEVENT
DTSTART;TZID=UTC:20250320T113000
DTEND;TZID=UTC:20250320T130000
DTSTAMP:20260419T215941
CREATED:20250217T112427Z
LAST-MODIFIED:20250217T112427Z
UID:10090746-1742470200-1742475600@investinangus.com
SUMMARY:The Smart Way to Build and Protect Your Brand
DESCRIPTION:Join us for an interactive session led by GrowBiz Enterprise Facilitator Becca Flory\, who is a serial entrepreneur and lawyer. \nUsing case studies\, Becca will share ‘dos and don’ts’ as well as practical tips on how to help you run your business safely and confidently—without the legal jargon! \nYou’ll leave with clear\, actionable steps to protect and grow your business. In this session\, Becca will cover: \n\nGDPR made simple: Learn how to responsibly capture customer details for email marketing and build lasting customer relationships.\nClear agreements: Discover how to create service agreements for suppliers and customers to ensure smooth working relationships and avoid misunderstandings.\nProtect your brand: Understand how to safeguard your creative work so others can’t copy you.\nEffective terms and conditions: Craft T&Cs that truly serve your business goals.\n\nThese topics often feel intimidating\, but Becca will show you how easy it can be. With her guidance\, you’ll gain the clarity and confidence to focus on growing your business.
URL:https://investinangus.com/event/the-smart-way-to-build-and-protect-your-brand/
CATEGORIES:Business Planning,Legislation
END:VEVENT
END:VCALENDAR