BEGIN:VCALENDAR
VERSION:2.0
PRODID:-//Invest in Angus - ECPv6.15.17.1//NONSGML v1.0//EN
CALSCALE:GREGORIAN
METHOD:PUBLISH
X-ORIGINAL-URL:https://investinangus.com
X-WR-CALDESC:Events for Invest in Angus
REFRESH-INTERVAL;VALUE=DURATION:PT1H
X-Robots-Tag:noindex
X-PUBLISHED-TTL:PT1H
BEGIN:VTIMEZONE
TZID:UTC
BEGIN:STANDARD
TZOFFSETFROM:+0000
TZOFFSETTO:+0000
TZNAME:UTC
DTSTART:20240101T000000
END:STANDARD
END:VTIMEZONE
BEGIN:VEVENT
DTSTART;TZID=UTC:20250416T100000
DTEND;TZID=UTC:20250416T120000
DTSTAMP:20260419T215837
CREATED:20250318T164408Z
LAST-MODIFIED:20250318T164408Z
UID:10090879-1744797600-1744804800@investinangus.com
SUMMARY:A step-by-step guide to building your business plan
DESCRIPTION:New and established businesses will require a business plan for getting a loan\, grant or just to consider the direction they wish to go in. This webinar will teach you what you need to include and how. We will walk you through what should be included within a business plan\, how a business plan is used to improve your prospects for a loan or a grant\, and how you can develop a business plan to meet your needs. \nWe will: \n\nProvide a structure for a business plan\nReview each section of what should be included within the business plan\nExplain when and how to use a business plan\nExplore the connections (and importance) between the words and the numbers\nLook at how to identify and manage cashflow within the business planning process
URL:https://investinangus.com/event/a-step-by-step-guide-to-building-your-business-plan-16/
CATEGORIES:Business Planning,Business Start-up
END:VEVENT
BEGIN:VEVENT
DTSTART;TZID=UTC:20250416T180000
DTEND;TZID=UTC:20250416T200000
DTSTAMP:20260419T215837
CREATED:20250318T164505Z
LAST-MODIFIED:20250318T164505Z
UID:10090882-1744826400-1744833600@investinangus.com
SUMMARY:Profitable Pricing for Sustainable Growth
DESCRIPTION:Discover the key to sustainable business growth with our essential pricing workshop\, created to help you set the right price for your products and services. \nIn this workshop\, you’ll learn proven strategies to price for profit\, ensuring your business thrives without compromising its value. We’ll explore the psychology behind pricing\, cost structures\, and market positioning to help you identify the optimal price point that drives profitability and customer appeal. Whether you’re a small business owner or a solopreneur\, this workshop will provide you with the tools to confidently price your offerings\, boost margins\, and maximise your earning potential. \nWhat we’ll cover: \nUnderstanding the cost and value factors that drive profitable pricing. \nTechniques to evaluate and adjust your pricing strategy. \nHow to communicate your pricing effectively to clients. \nSetting prices that align with your business goals and customer expectations. \nBy the end of this workshop\, you’ll have a clear\, actionable pricing strategy that sets your business up for long-term success.
URL:https://investinangus.com/event/profitable-pricing-for-sustainable-growth-2/
LOCATION:Arbroath Signal Tower Museum\, Ladyloan\, Arbroath\, DD11 1PU
CATEGORIES:Business Planning
END:VEVENT
END:VCALENDAR