BEGIN:VCALENDAR
VERSION:2.0
PRODID:-//Invest in Angus - ECPv6.15.17.1//NONSGML v1.0//EN
CALSCALE:GREGORIAN
METHOD:PUBLISH
X-ORIGINAL-URL:https://investinangus.com
X-WR-CALDESC:Events for Invest in Angus
REFRESH-INTERVAL;VALUE=DURATION:PT1H
X-Robots-Tag:noindex
X-PUBLISHED-TTL:PT1H
BEGIN:VTIMEZONE
TZID:UTC
BEGIN:STANDARD
TZOFFSETFROM:+0000
TZOFFSETTO:+0000
TZNAME:UTC
DTSTART:20240101T000000
END:STANDARD
END:VTIMEZONE
BEGIN:VEVENT
DTSTART;TZID=UTC:20250423T180000
DTEND;TZID=UTC:20250423T200000
DTSTAMP:20260419T215837
CREATED:20250203T094340Z
LAST-MODIFIED:20250318T164843Z
UID:10090685-1745431200-1745438400@investinangus.com
SUMMARY:Effective Sales and Negotiation Strategies
DESCRIPTION:This workshop is designed to help business owners understand the components of successful selling and to equip them with tools and techniques they can apply in the workplace to make a positive impact immediately. \nYou will gain valuable insights into how to engage customers more effectively\, close sales with confidence\, and negotiate strategically with suppliers and wholesalers. Packed with practical techniques\, this workshop will help you build trust\, create win-win scenarios\, and secure better deals across all areas of your business. Whether you are negotiating prices\, terms\, or contracts\, you will leave with the skills to strengthen relationships and achieve tangible results. \nWhat we’ll cover: \n\nEffective Customer Engagement\nSupplier & Wholesale Negotiation\nWin-Win Strategies\nPractical Tools for Immediate Impact\n\nBook your place now and master the art of negotiation to land better deals with suppliers and wholesalers.
URL:https://investinangus.com/event/effective-sales-and-negotiation-strategies/
LOCATION:Arbroath Signal Tower Museum\, Ladyloan\, Arbroath\, DD11 1PU
CATEGORIES:Business Planning
END:VEVENT
END:VCALENDAR