BEGIN:VCALENDAR
VERSION:2.0
PRODID:-//Invest in Angus - ECPv6.15.17.1//NONSGML v1.0//EN
CALSCALE:GREGORIAN
METHOD:PUBLISH
X-WR-CALNAME:Invest in Angus
X-ORIGINAL-URL:https://investinangus.com
X-WR-CALDESC:Events for Invest in Angus
REFRESH-INTERVAL;VALUE=DURATION:PT1H
X-Robots-Tag:noindex
X-PUBLISHED-TTL:PT1H
BEGIN:VTIMEZONE
TZID:UTC
BEGIN:STANDARD
TZOFFSETFROM:+0000
TZOFFSETTO:+0000
TZNAME:UTC
DTSTART:20240101T000000
END:STANDARD
END:VTIMEZONE
BEGIN:VEVENT
DTSTART;TZID=UTC:20250612T153000
DTEND;TZID=UTC:20250612T163000
DTSTAMP:20260419T181952
CREATED:20250609T115107Z
LAST-MODIFIED:20250609T115107Z
UID:10091347-1749742200-1749745800@investinangus.com
SUMMARY:Implementing a four day work week
DESCRIPTION:As more organisations across Scotland explore new ways of working\, the four day working week is gaining traction as a practical solution for improving productivity and wellbeing. \nJoin Peer Works online to hear from James Reeves of the 4 Day Week Foundation and Neil Sullivan of Boxfish about the opportunities and challenges of implementing a four day working week. \nWhat you’ll learn: \n\nThe goals and business case behind the 4 Day Week Campaign\nHow Boxfish implemented a four-day working week and what they learned\nCommon challenges and how to overcome them\nTangible benefits for employees and organisations\nPractical steps to begin your own transition
URL:https://investinangus.com/event/implementing-a-four-day-work-week/
CATEGORIES:Business Planning,HR
END:VEVENT
END:VCALENDAR